{"text_format":"1","workbook":"xlsx","n_sheets":9,"sheets":["はじめに","学校番号","【入力1】チーム情報","【入力2】部員情報","【申込】高総体","【申込】選手権","【申込】新人戦","【メンバー用紙】共通","memo"],"not_rendered":{"charts":0,"images":7,"macros":1,"external_links":0,"defined_names":15,"comments":0,"pivot_tables":0},"unopened":[],"bounds":{"document_bytes":16777216,"sheet_cells":100000,"rows_first":2000,"rows_last":500,"rows_between":2000,"halvings":0,"cell_chars":16384,"cell_head_chars":4096},"cells_cut":0,"cells_raw":0,"read":"whole","date_system":"1900"}

{"sheet":"はじめに","index":0,"n_rows":53,"n_cols":32,"rows_kept":53,"cut":false,"hidden":false,"merged":[[35,1,36,20],[29,1,30,20],[32,1,33,20]]}
[null,null,null,null,null,null,null,null,null,null,null,null,null,null,null,null,null,null,null,null,null,null,null,null,null,null,null,null,null,null,null,{"$f":"【申込】高総体!$X$4","v":"ver.2024_1a"}]
[null,"注意事項　2024年度～"]
["・","このEntrysheetは、関数およびマクロ（申込書およびメンバー用紙作成マクロ）が組まれています。"]
["・","ファイル名の変更は可能ですが、極力変更せずにご利用ください。"]
["・","ファイル内の各シート名の変更や移動（タブの並び順を入れ替えるも含む）は行わないでください。"]
["・","行や列の挿入・削除は行わないでください。"]
["・","こちらのファイル内各シートに、別ファイルからデータの貼り付けをする場合は、［形式を選択して貼り付け］→［値］"]
[null,"で行ってください。"]
["・","背番号「00」については、ｼｽﾃﾑの都合上「0」で入力をお願いします。チーム情報等の入力完了後に、【申込】〇〇〇ｼｰﾄ上で、"]
[null,"新たに保存（作成）されるファイル（.xlsx）を開き、「’00」を手入力し、訂正してください。"]
["・","専門部に申込書のデータを送る場合は、このファイル（.xlsm）ではなく、【申込】シート内の『作成する』をクリックしたときに"]
[null,"保存（作成）されるExcel（.xlsx）ファイル（ファイル名に学校名+男子or女子が入ったもの）を添付してください。"]
["・","統廃合による学校名や学校情報、チームIDの変更など、【学校番号】シート内に関わることは、専門部総務担当までご連絡ください。"]
[]
[null,"各大会の申込書およびメンバー用紙の作成について　2024年度～"]
[1,"エントリーシート作成用のExcelファイルを開いてください。（このファイルです）"]
[2,"数式バー付近に下図のようなものが出てきた場合は、『 コンテンツの有効化 』をクリックしてください。"]
[]
[]
[3,"【入力1】チーム情報　シートを選択し、必要事項を入力してください。"]
[null,null,"※ 入力についての説明省略（シートを参照し、塗りつぶし部分を入力してください）"]
[]
[4,"【入力2】部員情報　シートを選択し、必要事項を入力してください。　←2024年度～変更"]
[null,null,"※ 入力についての説明省略（シートを参照し、塗りつぶし部分を入力してください）"]
[]
[5,"入力が終わったら、該当大会名の【申込】〇〇〇シートを開き、表示されている内容を確認してください。"]
[null,null,"※ 【申込】〇〇〇シートは、大会別になっています。"]
[6,"【メンバー用紙】共通シートを開き、キャプテンとなる選手の備考欄に 「ＣＡＰ」 を入力（選択）してください。"]
[null,null,"※ 【メンバー用紙】共通シートは、各大会共通です。"]
[7,"【申込】〇〇〇シートに戻り、右図にあるような 『作成する』 をクリックしてください。（マクロが実行されます）"]
[]
[]
[8,"入力した内容をもとに申込書およびメンバー用紙のエクセルファイル（.ｘｌｓｘ）が、新たに作成されます。"]
[]
[]
[9,"以下のダイアログが開いたら、保存先を指定してください。ファイル名には、既にチーム名が入っているので、確認後、『保存』 をクリックしてください。"]
[]
[]
[]
[]
[]
[]
[]
[]
[10,"保存の際、以下のメッセージが出てきます。マクロは必要ないので、『はい』をクリックしてください。"]
[]
[]
[]
[]
[]
[]
[11,"申込書およびメンバー用紙が保存（作成）されました。指定した保存先から、ファイルを開き、内容の確認をしてください。"]
[null,"※この作成されたファイルで、前述した背番号「00」の選手がいた場合の訂正をします。"]

{"sheet":"学校番号","index":1,"n_rows":182,"n_cols":13,"rows_kept":182,"cut":false,"hidden":false,"merged":[[142,1,154,1],[155,1,163,1],[164,1,172,1],[1,5,2,5],[3,1,71,1],[104,1,116,1],[117,1,141,1],[2,3,2,4],[1,3,1,4],[1,1,2,1],[72,1,103,1],[1,10,2,10],[1,11,2,11],[1,7,2,7],[1,9,2,9],[1,2,2,2],[1,8,2,8],[1,6,2,6]]}
[null,null,1,2,3,4,5,6,7,8,9,10,11]
[null,"地区","学校番号","全日制",null,"チームＩＤ","郵便番号","住所","電話番号","ＦＡＸ","校名略称","ｶﾞｯｺｳﾒｲ　（半角入力）"]
[null,null,null,"高等学校名"]
[{"$f":"ROW(A1)","v":1},"仙塩",{"$f":"A4","v":1},"宮城県仙台第一高等学校","男","T450936191","984-8561","仙台市若林区元茶畑4","022-257-4501","022-257-4503","仙台第一","ﾐﾔｷﾞｹﾝｾﾝﾀﾞｲﾀﾞｲｲﾁ","ｺｳﾄｳｶﾞｯｺｳ"]
[{"$f":"ROW(A2)","v":2},null,{"$f":"A5","v":2},"宮城県仙台第一高等学校","女","T462140144","984-8561","仙台市若林区元茶畑4","022-257-4501","022-257-4503","仙台第一","ﾐﾔｷﾞｹﾝｾﾝﾀﾞｲﾀﾞｲｲﾁ","ｺｳﾄｳｶﾞｯｺｳ"]
[3,null,3,"宮城県仙台第二高等学校","男","T451085083","980-8631","仙台市青葉区川内澱橋通1","022-221-5626","022-221-5628","仙台第二","ﾐﾔｷﾞｹﾝｾﾝﾀﾞｲﾀﾞｲﾆ","ｺｳﾄｳｶﾞｯｺｳ"]
[4,null,4,"宮城県仙台第二高等学校","女","T462216170","980-8631","仙台市青葉区川内澱橋通1","022-221-5626","022-221-5628","仙台第二","ﾐﾔｷﾞｹﾝｾﾝﾀﾞｲﾀﾞｲﾆ","ｺｳﾄｳｶﾞｯｺｳ"]
[5,null,5,"宮城県仙台第三高等学校","男","T450362299","983-0824","仙台市宮城野区鶴ヶ谷1-19","022-251-1246","022-251-1247","仙台第三","ﾐﾔｷﾞｹﾝｾﾝﾀﾞｲﾀﾞｲｻﾝ","ｺｳﾄｳｶﾞｯｺｳ"]
[6,null,6,"宮城県仙台第三高等学校","女","T460946581","983-0824","仙台市宮城野区鶴ヶ谷1-19","022-251-1246","022-251-1247","仙台第三","ﾐﾔｷﾞｹﾝｾﾝﾀﾞｲﾀﾞｲｻﾝ","ｺｳﾄｳｶﾞｯｺｳ"]
[7,null,7,"宮城県宮城第一高等学校","女","T460002002","980-0871","仙台市青葉区八幡1-6-2","022-227-3211","022-227-3213","宮城第一","ﾐﾔｷﾞｹﾝﾐﾔｷﾞﾀﾞｲｲﾁ","ｺｳﾄｳｶﾞｯｺｳ"]
[8,null,8,"宮城県仙台二華高等学校","男","T452201288","984-0052","仙台市若林区連坊1-4-1","022-296-8101","022-296-8103","仙台二華","ﾐﾔｷﾞｹﾝｾﾝﾀﾞｲﾆｶ","ｺｳﾄｳｶﾞｯｺｳ"]
[9,null,9,"宮城県仙台二華高等学校","女","T460589429","984-0052","仙台市若林区連坊1-4-1","022-296-8101","022-296-8103","仙台二華","ﾐﾔｷﾞｹﾝｾﾝﾀﾞｲﾆｶ","ｺｳﾄｳｶﾞｯｺｳ"]
[10,null,10,"宮城県仙台三桜高等学校","男","T452037845","982-0845","仙台市太白区門前町9-2","022-248-0158","022-248-0482","仙台三桜","ﾐﾔｷﾞｹﾝｾﾝﾀﾞｲｻﾝｵｳ","ｺｳﾄｳｶﾞｯｺｳ"]
[11,null,11,"宮城県仙台三桜高等学校","女","T460350651","982-0845","仙台市太白区門前町9-2","022-248-0158","022-248-0482","仙台三桜","ﾐﾔｷﾞｹﾝｾﾝﾀﾞｲｻﾝｵｳ","ｺｳﾄｳｶﾞｯｺｳ"]
[12,null,12,"宮城県仙台向山高等学校","男","T450829552","982-0832","仙台市太白区八木山緑町1-1","022-262-4130","022-262-4133","仙台向山","ﾐﾔｷﾞｹﾝｾﾝﾀﾞｲﾑｶｲﾔﾏ","ｺｳﾄｳｶﾞｯｺｳ"]
[13,null,13,"宮城県仙台向山高等学校","女","T460324066","982-0832","仙台市太白区八木山緑町1-1","022-262-4130","022-262-4133","仙台向山","ﾐﾔｷﾞｹﾝｾﾝﾀﾞｲﾑｶｲﾔﾏ","ｺｳﾄｳｶﾞｯｺｳ"]
[14,null,14,"宮城県仙台南高等学校","男","T450682265","982-0844","仙台市太白区根岸町14-1","022-246-0131","022-246-0132","仙台南","ﾐﾔｷﾞｹﾝｾﾝﾀﾞｲﾐﾅﾐ","ｺｳﾄｳｶﾞｯｺｳ"]
[15,null,15,"宮城県仙台南高等学校","女","T460630366","982-0844","仙台市太白区根岸町14-1","022-246-0131","022-246-0132","仙台南","ﾐﾔｷﾞｹﾝｾﾝﾀﾞｲﾐﾅﾐ","ｺｳﾄｳｶﾞｯｺｳ"]
[16,null,16,"宮城県仙台西高等学校","男","T451229202","982-0806","仙台市太白区御堂平5-1","022-244-6151","022-244-6152","仙台西","ﾐﾔｷﾞｹﾝｾﾝﾀﾞｲﾆｼ","ｺｳﾄｳｶﾞｯｺｳ"]
[17,null,17,"宮城県仙台西高等学校","女","T461320750","982-0806","仙台市太白区御堂平5-1","022-244-6151","022-244-6152","仙台西","ﾐﾔｷﾞｹﾝｾﾝﾀﾞｲﾆｼ","ｺｳﾄｳｶﾞｯｺｳ"]
[18,null,18,"宮城県仙台東高等学校","男","T450243381","984-0832","仙台市若林区下飯田字高野東70","022-289-4140","022-289-4383","仙台東","ﾐﾔｷﾞｹﾝｾﾝﾀﾞｲﾋｶﾞｼ","ｺｳﾄｳｶﾞｯｺｳ"]
[19,null,19,"宮城県仙台東高等学校","女","T460646571","984-0832","仙台市若林区下飯田字高野東70","022-289-4140","022-289-4383","仙台東","ﾐﾔｷﾞｹﾝｾﾝﾀﾞｲﾋｶﾞｼ","ｺｳﾄｳｶﾞｯｺｳ"]
[20,null,20,"宮城県工業高等学校","男","T450574293","980-0813","仙台市青葉区米ヶ袋3-2-1","022-221-5656","022-221-5660","宮城工業","ﾐﾔｷﾞｹﾝｺｳｷﾞｮｳ","ｺｳﾄｳｶﾞｯｺｳ"]
[21,null,21,"宮城県松島高等学校","男","T450380686","981-0215","松島町高城字迎山3-5","022-354-3307","022-354-5847","松島","ﾐﾔｷﾞｹﾝﾏﾂｼﾏ","ｺｳﾄｳｶﾞｯｺｳ"]
[22,null,22,"宮城県松島高等学校","女","T460324164","981-0215","松島町高城字迎山3-5","022-354-3307","022-354-5847","松島","ﾐﾔｷﾞｹﾝﾏﾂｼﾏ","ｺｳﾄｳｶﾞｯｺｳ"]
[23,null,23,"宮城県富谷高等学校","男","T450983288","981-3341","富谷市成田2-1-1","022-351-5111","022-351-5112","富谷","ﾐﾔｷﾞｹﾝﾄﾐﾔ","ｺｳﾄｳｶﾞｯｺｳ"]
[24,null,24,"宮城県富谷高等学校","女","T461687741","981-3341","富谷市成田2-1-1","022-351-5111","022-351-5112","富谷","ﾐﾔｷﾞｹﾝﾄﾐﾔ","ｺｳﾄｳｶﾞｯｺｳ"]
[25,null,25,"宮城県宮城広瀬高等学校","男","T450213147","989-3126","仙台市青葉区落合4-4-1","022-392-5512","022-392-5513","宮城広瀬","ﾐﾔｷﾞｹﾝﾐﾔｷﾞﾋﾛｾ","ｺｳﾄｳｶﾞｯｺｳ"]
[26,null,26,"宮城県宮城広瀬高等学校","女","T460167145","989-3126","仙台市青葉区落合4-4-1","022-392-5512","022-392-5513","宮城広瀬","ﾐﾔｷﾞｹﾝﾐﾔｷﾞﾋﾛｾ","ｺｳﾄｳｶﾞｯｺｳ"]
[27,null,27,"宮城県泉高等学校","男","T450564182","981-3132","仙台市泉区将監10-39-1","022-372-4111","022-372-4128","泉","ﾐﾔｷﾞｹﾝｲｽﾞﾐ","ｺｳﾄｳｶﾞｯｺｳ"]
[28,null,28,"宮城県泉高等学校","女","T460390951","981-3132","仙台市泉区将監10-39-1","022-372-4111","022-372-4128","泉","ﾐﾔｷﾞｹﾝｲｽﾞﾐ","ｺｳﾄｳｶﾞｯｺｳ"]
[29,null,29,"宮城県泉松陵高等学校","男","T450748845","981-3109","仙台市泉区鶴が丘4-26-1","022-373-4125","022-373-4126","泉松陵","ﾐﾔｷﾞｹﾝｲｽﾞﾐｼｮｳﾘｮｳ","ｺｳﾄｳｶﾞｯｺｳ"]
[30,null,{"$f":"A33","v":30},"宮城県泉松陵高等学校","女","T469416927","981-3109","仙台市泉区鶴が丘4-26-1","022-373-4125","022-373-4126","泉松陵","ﾐﾔｷﾞｹﾝｲｽﾞﾐｼｮｳﾘｮｳ","ｺｳﾄｳｶﾞｯｺｳ"]
[31,null,31,"宮城県泉館山高等学校","男","T451167979","981-3211","仙台市泉区長命ヶ丘東1","022-378-0975","022-378-0976","泉館山","ﾐﾔｷﾞｹﾝｲｽﾞﾐﾀﾃﾔﾏ","ｺｳﾄｳｶﾞｯｺｳ"]
[32,null,32,"宮城県泉館山高等学校","女","T461353144","981-3211","仙台市泉区長命ヶ丘東1","022-378-0975","022-378-0976","泉館山","ﾐﾔｷﾞｹﾝｲｽﾞﾐﾀﾃﾔﾏ","ｺｳﾄｳｶﾞｯｺｳ"]
[33,null,33,"仙台市立仙台高等学校","男","T450344211","981-8502","仙台市青葉区国見6-52-1","022-271-4471","022-271-1136","仙台","ｾﾝﾀﾞｲｼﾘﾂｾﾝﾀﾞｲ","ｺｳﾄｳｶﾞｯｺｳ"]
[34,null,34,"仙台市立仙台高等学校","女","T460371137","981-8502","仙台市青葉区国見6-52-1","022-271-4471","022-271-1136","仙台","ｾﾝﾀﾞｲｼﾘﾂｾﾝﾀﾞｲ","ｺｳﾄｳｶﾞｯｺｳ"]
[35,null,35,"仙台市立仙台工業高等学校","男","T450369179","983-8543","仙台市宮城野区東宮城野3-1","022-237-5341","022-283-6478","仙台工業","ｾﾝﾀﾞｲｼﾘﾂｾﾝﾀﾞｲｺｳｷﾞｮｳ","ｺｳﾄｳｶﾞｯｺｳ"]
[36,null,36,"仙台市立仙台商業高等学校","男","T450428105","981-3131","仙台市泉区七北田字古内75","022-218-3141","022-218-5432","仙台商業","ｾﾝﾀﾞｲｼﾘﾂｾﾝﾀﾞｲｼｮｳｷﾞｮｳ","ｺｳﾄｳｶﾞｯｺｳ"]
[37,null,37,"仙台市立仙台商業高等学校","女","T460384024","981-3131","仙台市泉区七北田字古内75","022-218-3141","022-218-5432","仙台商業","ｾﾝﾀﾞｲｼﾘﾂｾﾝﾀﾞｲｼｮｳｷﾞｮｳ","ｺｳﾄｳｶﾞｯｺｳ"]
[38,null,38,"宮城県塩釜高等学校","男","T450378809","985-0056","塩竈市泉ケ岡10-1","022-362-1011","022-362-0703","塩釜","ﾐﾔｷﾞｹﾝｼｵｶﾞﾏ","ｺｳﾄｳｶﾞｯｺｳ"]
[39,null,39,"宮城県塩釜高等学校","女","T460483397","985-0056","塩竈市泉ケ岡10-1","022-362-1011","022-362-0703","塩釜","ﾐﾔｷﾞｹﾝｼｵｶﾞﾏ","ｺｳﾄｳｶﾞｯｺｳ"]
[40,null,40,"宮城県多賀城高等学校","男","T450906856","985-0831","多賀城市笠神2-17-1","022-366-1225","022-366-1226","多賀城","ﾐﾔｷﾞｹﾝﾀｶﾞｼﾞｮｳ","ｺｳﾄｳｶﾞｯｺｳ"]
[41,null,41,"宮城県多賀城高等学校","女","T460674835","985-0831","多賀城市笠神2-17-1","022-366-1225","022-366-1226","多賀城","ﾐﾔｷﾞｹﾝﾀｶﾞｼﾞｮｳ","ｺｳﾄｳｶﾞｯｺｳ"]
[42,null,42,"宮城県利府高等学校","男","T450290679","981-0133","利府町青葉台1-1-1","022-356-3111","022-356-3112","利府","ﾐﾔｷﾞｹﾝﾘﾌ","ｺｳﾄｳｶﾞｯｺｳ"]
[43,null,43,"宮城県利府高等学校","女","T460839386","981-0133","利府町青葉台1-1-1","022-356-3111","022-356-3112","利府","ﾐﾔｷﾞｹﾝﾘﾌ","ｺｳﾄｳｶﾞｯｺｳ"]
[44,null,44,"東北学院高等学校","男","T450574524","983-8565","仙台市宮城野区小鶴字高野123-1","022-786-1231","022-786-1460","東北学院","ﾄｳﾎｸｶﾞｸｲﾝ","ｺｳﾄｳｶﾞｯｺｳ"]
[45,null,45,"聖和学園高等学校","男","T450192226","982-0026 ","仙台市太白区土手内2-1-1","022-304-2030","022-304-2160","聖和学園","ｾｲﾜｶﾞｸｴﾝ","ｺｳﾄｳｶﾞｯｺｳ"]
[46,null,46,"聖和学園高等学校","女","T460783846","984-0047","仙台市若林区木ノ下3-4-1","022-257-7777","022-257-1484","聖和学園","ｾｲﾜｶﾞｸｴﾝ","ｺｳﾄｳｶﾞｯｺｳ"]
[47,null,47,"宮城学院高等学校","女","T461603792","981-8557","仙台市青葉区桜ケ丘9-1-1","022-279-1331","022-279-5113","宮城学院","ﾐﾔｷﾞｶﾞｸｲﾝ","ｺｳﾄｳｶﾞｯｺｳ"]
[48,null,48,"仙台白百合学園高等学校","女","T462153293","981-3205","仙台市泉区紫山1-2-1","022-777-5777","022-777-3555","白百合","ｾﾝﾀﾞｲｼﾗﾕﾘｶﾞｸｴﾝ","ｺｳﾄｳｶﾞｯｺｳ"]
[49,null,49,"尚絅学院高等学校","男","T452295893","980-0871","仙台市青葉区八幡1-9-27","022-264-5881","022-264-5901","尚絅学院","ｼｮｳｹｲｶﾞｸｲﾝ","ｺｳﾄｳｶﾞｯｺｳ"]
[50,null,50,"尚絅学院高等学校","女","T460541347","980-0871","仙台市青葉区八幡1-9-27","022-264-5881","022-264-5901","尚絅学院","ｼｮｳｹｲｶﾞｸｲﾝ","ｺｳﾄｳｶﾞｯｺｳ"]
[51,null,51,"常盤木学園高等学校","女","T460181311","980-0003","仙台市青葉区小田原4-3-20","022-263-1755","022-716-6614","常盤木学園","ﾄｷﾜｷﾞｶﾞｸｴﾝ","ｺｳﾄｳｶﾞｯｺｳ"]
[52,null,52,"仙台育英学園高等学校","男","T450655260","985-0853","多賀城市高橋五丁目6-1","022-368-4111","022-368-2800","仙台育英","ｾﾝﾀﾞｲｲｸｴｲｶﾞｸｴﾝ","ｺｳﾄｳｶﾞｯｺｳ"]
[53,null,53,"仙台育英学園高等学校","女","T460580634","983-0045","仙台市宮城野区宮城野2-4-1","022-256-4141","022-299-2408","仙台育英","ｾﾝﾀﾞｲｲｸｴｲｶﾞｸｴﾝ","ｺｳﾄｳｶﾞｯｺｳ"]
[54,null,54,"仙台大学附属明成高等学校","男","T450143636","981-8570","仙台市青葉区川平2-26-1","022-278-6131","022-277-5130","明成","ｾﾝﾀﾞｲﾀﾞｲｶﾞｸﾌｿﾞｸﾒｲｾｲ","ｺｳﾄｳｶﾞｯｺｳ"]
[55,null,55,"仙台大学附属明成高等学校","女","T460567398","981-8570","仙台市青葉区川平2-26-1","022-278-6131","022-277-5130","明成","ｾﾝﾀﾞｲﾀﾞｲｶﾞｸﾌｿﾞｸﾒｲｾｲ","ｺｳﾄｳｶﾞｯｺｳ"]
[56,null,56,"東北高等学校","男","T450636217","981-8543","仙台市青葉区小松島4-3-1","022-234-6361","022-234-6639","東北","ﾄｳﾎｸ","ｺｳﾄｳｶﾞｯｺｳ"]
[57,null,57,"東北高等学校","女","T460575860","981-8543","仙台市青葉区小松島4-3-1","022-234-6361","022-234-6639","東北","ﾄｳﾎｸ","ｺｳﾄｳｶﾞｯｺｳ"]
[58,null,58,"聖ウルスラ学院英智高等学校","女","T461160649","984-0828","仙台市若林区一本杉町1-2","022-286-3557","022-286-7279","聖ウルスラ","ｾｲｳﾙｽﾗｶﾞｸｲﾝｴｲﾁ","ｺｳﾄｳｶﾞｯｺｳ"]
[59,null,59,"聖ドミニコ学院高等学校","女","T460639324","980-0874","仙台市青葉区角五郎2-2-14","022-222-6337","022-221-6203","聖ドミニコ","ｾｲﾄﾞﾐﾆｺｶﾞｸｲﾝ","ｺｳﾄｳｶﾞｯｺｳ"]
[60,null,60,"仙台城南高等学校","男","T450707090","982-0836","仙台市太白区八木山松波町5-1","022-305-2111","022-305-2114","仙台城南","ｾﾝﾀﾞｲｼﾞｮｳﾅﾝ","ｺｳﾄｳｶﾞｯｺｳ"]
[61,null,61,"仙台城南高等学校","女","T462260075","982-0836","仙台市太白区八木山松波町5-1","022-305-2111","022-305-2114","仙台城南","ｾﾝﾀﾞｲｼﾞｮｳﾅﾝ","ｺｳﾄｳｶﾞｯｺｳ"]
[62,null,62,"東北学院榴ケ岡高等学校","男","T450760275","981-3105","仙台市泉区天神沢2-2-1","022-372-6611","022-375-6966","東北学院榴ヶ岡","ﾄｳﾎｸｶﾞｸｲﾝﾂﾂｼﾞｶﾞｵｶ","ｺｳﾄｳｶﾞｯｺｳ"]
[63,null,63,"東北学院榴ケ岡高等学校","女","T460489271","981-3105","仙台市泉区天神沢2-2-1","022-372-6611","022-375-6966","東北学院榴ヶ岡","ﾄｳﾎｸｶﾞｸｲﾝﾂﾂｼﾞｶﾞｵｶ","ｺｳﾄｳｶﾞｯｺｳ"]
[64,null,64,"東北生活文化大学高等学校","男","T451057219","981-8585","仙台市泉区虹の丘1-18","022-272-7530","022-272-7523","生文大","ﾄｳﾎｸｾｲｶﾂﾌﾞﾝｶﾀﾞｲｶﾞｸ","ｺｳﾄｳｶﾞｯｺｳ"]
[65,null,65,"東北生活文化大学高等学校","女","T460984515","981-8585","仙台市泉区虹の丘1-18","022-272-7530","022-272-7523","生文大","ﾄｳﾎｸｾｲｶﾂﾌﾞﾝｶﾀﾞｲｶﾞｸ","ｺｳﾄｳｶﾞｯｺｳ"]
[66,null,66,"秀光中等教育学校","女","T450650877",null,null,null,null,null,"ｼｭｳｺｳ","ﾁｭｳﾄｳｷｮｳｲｸｶﾞｯｺｳ"]
[{"$f":"ROW(A67)","v":67},null,{"$f":"A70","v":67},"仙台高等専門学校広瀬キャンパス","男",null,"989-3128","仙台市青葉区愛子中央4-16-1","022-391-5508",null,"高専広瀬","ｾﾝﾀﾞｲｺｳﾄｳｾﾝﾓﾝｶﾞｯｺｳ","ﾋﾛｾｷｬﾝﾊﾟｽ"]
[68,null,68,"仙台市立仙台青陵中等教育学校","男","T450969999","989-3201","仙台市青葉区国見ヶ丘7丁目144番地","022-303-5551","022-303-1292","仙台青陵","ｾﾝﾀﾞｲｼﾘﾂｾﾝﾀﾞｲｾｲﾘｮｳ","ﾁｭｳﾄｳｷｮｳｲｸｶﾞｯｺｳ"]
[69,null,69,"仙台市立仙台青陵中等教育学校","女","T460898590","989-3201","仙台市青葉区国見ヶ丘7丁目144番地","022-303-5551","022-303-1292","仙台青陵","ｾﾝﾀﾞｲｼﾘﾂｾﾝﾀﾞｲｾｲﾘｮｳ","ﾁｭｳﾄｳｷｮｳｲｸｶﾞｯｺｳ"]
[70,"仙南",70,"宮城県農業高等学校","男","T451167639","981-1242","名取市高舘吉田字吉合66","022-384-2511","022-384-2512","宮城農業","ﾐﾔｷﾞｹﾝﾉｳｷﾞｮｳ","ｺｳﾄｳｶﾞｯｺｳ"]
[71,null,71,"宮城県農業高等学校","女","T460967025","981-1242","名取市高舘吉田字吉合66","022-384-2511","022-384-2512","宮城農業","ﾐﾔｷﾞｹﾝﾉｳｷﾞｮｳ","ｺｳﾄｳｶﾞｯｺｳ"]
[72,null,72,"宮城県名取高等学校","男","T450167753","989-2474","岩沼市字朝日50","0223-22-3151","0223-22-3152","名取","ﾐﾔｷﾞｹﾝﾅﾄﾘ","ｺｳﾄｳｶﾞｯｺｳ"]
[73,null,73,"宮城県名取高等学校","女","T460364914","989-2474","岩沼市字朝日50","0223-22-3151","0223-22-3152","名取","ﾐﾔｷﾞｹﾝﾅﾄﾘ","ｺｳﾄｳｶﾞｯｺｳ"]
[74,null,74,"宮城県名取北高等学校","男","T450157750","981-1224","名取市増田字柳田103","022-382-1261","022-384-8976 ","名取北","ﾐﾔｷﾞｹﾝﾅﾄﾘｷﾀ","ｺｳﾄｳｶﾞｯｺｳ"]
[75,null,75,"宮城県名取北高等学校","女","T460592306","981-1224","名取市増田字柳田103","022-382-1261","022-384-8976 ","名取北","ﾐﾔｷﾞｹﾝﾅﾄﾘｷﾀ","ｺｳﾄｳｶﾞｯｺｳ"]
[76,null,76,"宮城県亘理高等学校","男","T451415892","989-2361","亘理町字舘南56-2","0223-34-1213","0223-34-2310","亘理","ﾐﾔｷﾞｹﾝﾜﾀﾘ","ｺｳﾄｳｶﾞｯｺｳ"]
[77,null,77,"宮城県亘理高等学校","女","T461411649","989-2361","亘理町字舘南56-2","0223-34-1213","0223-34-2310","亘理","ﾐﾔｷﾞｹﾝﾜﾀﾘ","ｺｳﾄｳｶﾞｯｺｳ"]
[78,null,78,"宮城県白石高等学校","男","T451076062","989-0247","白石市八幡町9-10","0224-25-3154","0224-25-3155","白石","ﾐﾔｷﾞｹﾝｼﾛｲｼ","ｺｳﾄｳｶﾞｯｺｳ"]
[79,null,79,"宮城県白石高等学校","女","T460484697","989-0247","白石市八幡町9-10","0224-25-3154","0224-25-3155","白石","ﾐﾔｷﾞｹﾝｼﾛｲｼ","ｺｳﾄｳｶﾞｯｺｳ"]
[80,null,80,"宮城県白石工業高等学校","男","T450251482","989-0203","白石市郡山字鹿野43","0224-25-3240","0224-25-1476","白石工業","ﾐﾔｷﾞｹﾝｼﾛｲｼｺｳｷﾞｮｳ","ｺｳﾄｳｶﾞｯｺｳ"]
[81,null,81,"宮城県大河原商業高等学校","男","T450417477","989-1201","大河原町大谷字西原前154-6","0224-52-1064","0224-52-1568","大河原商業","ﾐﾔｷﾞｹﾝｵｵｶﾞﾜﾗｼｮｳｷﾞｮｳ","ｺｳﾄｳｶﾞｯｺｳ"]
[82,null,82,"宮城県大河原商業高等学校","女","T460399663","989-1201","大河原町大谷字西原前154-6","0224-52-1064","0224-52-1568","大河原商業","ﾐﾔｷﾞｹﾝｵｵｶﾞﾜﾗｼｮｳｷﾞｮｳ","ｺｳﾄｳｶﾞｯｺｳ"]
[83,null,83,"宮城県柴田農林高等学校","男","T451367448","989-1233","大河原町字上川原7-2","0224-53-1049","0224-53-1050","柴田農林","ﾐﾔｷﾞｹﾝｼﾊﾞﾀﾉｳﾘﾝ","ｺｳﾄｳｶﾞｯｺｳ"]
[84,null,84,"宮城県柴田農林高等学校","女","T461688822","989-1233","大河原町字上川原7-2","0224-53-1049","0224-53-1050","柴田農林","ﾐﾔｷﾞｹﾝｼﾊﾞﾀﾉｳﾘﾝ","ｺｳﾄｳｶﾞｯｺｳ"]
[85,null,85,"宮城県大河原産業高等学校","男",null,"989-1233","大河原町字上川原7-2","0224-51-9180","0224-51-9180","大河原産業","ﾐﾔｷﾞｹﾝｵｵｶﾞﾜﾗｻﾝｷﾞｮｳ","ｺｳﾄｳｶﾞｯｺｳ"]
[86,null,86,"宮城県大河原産業高等学校","女",null,"989-1233","大河原町字上川原7-2","0224-51-9180","0224-51-9180","大河原産業","ﾐﾔｷﾞｹﾝｵｵｶﾞﾜﾗｻﾝｷﾞｮｳ","ｺｳﾄｳｶﾞｯｺｳ"]
[87,null,87,"宮城県柴田農林高等学校　川崎校","男",null,"989-1501","川崎町前川字北原25","0224-84-2049","0224-84-2087","柴田農林川崎","ﾐﾔｷﾞｹﾝｼﾊﾞﾀﾉｳﾘﾝ","ｺｳﾄｳｶﾞｯｺｳ ｶﾜｻｷｺｳ"]
[88,null,88,"宮城県柴田農林高等学校　川崎校","女","T462155407","989-1501","川崎町前川字北原25","0224-84-2049","0224-84-2087","柴田農林川崎","ﾐﾔｷﾞｹﾝｼﾊﾞﾀﾉｳﾘﾝ","ｺｳﾄｳｶﾞｯｺｳ ｶﾜｻｷｺｳ"]
[89,null,89,"宮城県村田高等学校","男","T450384659","989-1305","村田町村田字金谷1","0224-83-2275","0224-83-2276","村田","ﾐﾔｷﾞｹﾝﾑﾗﾀ","ｺｳﾄｳｶﾞｯｺｳ"]
[90,null,90,"宮城県村田高等学校","女","T460738941","989-1305","村田町村田字金谷1","0224-83-2275","0224-83-2276","村田","ﾐﾔｷﾞｹﾝﾑﾗﾀ","ｺｳﾄｳｶﾞｯｺｳ"]
[91,null,91,"宮城県柴田高等学校","男","T450391393","989-1621","柴田町本船迫字十八津入7-3","0224-56-3801","0224-56-3803","柴田","ﾐﾔｷﾞｹﾝｼﾊﾞﾀ","ｺｳﾄｳｶﾞｯｺｳ"]
[92,null,92,"宮城県柴田高等学校","女","T460357860","989-1621","柴田町本船迫字十八津入7-3","0224-56-3801","0224-56-3803","柴田","ﾐﾔｷﾞｹﾝｼﾊﾞﾀ","ｺｳﾄｳｶﾞｯｺｳ"]
[93,null,93,"宮城県角田高等学校","男","T450768218","981-1505","角田市角田字牛舘1","0224-63-3001","0224-63-0523","角田","ﾐﾔｷﾞｹﾝｶｸﾀﾞ","ｺｳﾄｳｶﾞｯｺｳ"]
[94,null,94,"宮城県角田高等学校","女","T461031016","981-1505","角田市角田字牛舘1","0224-63-3001","0224-63-0523","角田","ﾐﾔｷﾞｹﾝｶｸﾀﾞ","ｺｳﾄｳｶﾞｯｺｳ"]
[95,null,95,"宮城県伊具高等学校","男","T450836422","981-2153","丸森町字雁歌51","0224-72-2020","0224-72-1322","伊具","ﾐﾔｷﾞｹﾝｲｸﾞ","ｺｳﾄｳｶﾞｯｺｳ"]
[96,null,96,"宮城県伊具高等学校","女","T460756866","981-2153","丸森町字雁歌51","0224-72-2020","0224-72-1322","伊具","ﾐﾔｷﾞｹﾝｲｸﾞ","ｺｳﾄｳｶﾞｯｺｳ"]
[97,null,97,"宮城県蔵王高等学校","男","T452101774","989-0851","蔵王町曲竹字濁川添赤岩1-7","0224-33-2005","0224-33-2034","蔵王","ﾐﾔｷﾞｹﾝｻﾞｵｳ","ｺｳﾄｳｶﾞｯｺｳ"]
[98,null,98,"宮城県蔵王高等学校","女","T461023229","989-0851","蔵王町曲竹字濁川添赤岩1-7","0224-33-2005","0224-33-2034","蔵王","ﾐﾔｷﾞｹﾝｻﾞｵｳ","ｺｳﾄｳｶﾞｯｺｳ"]
[99,null,99,"西山学院高等学校","男","T450454080","989-0533","刈田郡七ヶ宿町字矢立平4-5","0224-37-2131","0224-37-2021","西山学院","ﾆｼﾔﾏｶﾞｸｲﾝ","ｺｳﾄｳｶﾞｯｺｳ"]
[100,null,100,"仙台高等専門学校名取キャンパス","男","T450540712","981-1239","名取市愛島塩手字野田山48番地","022-381-0253",null,"高専名取","ｾﾝﾀﾞｲｺｳﾄｳｾﾝﾓﾝｶﾞｯｺｳ","ﾅﾄﾘｷｬﾝﾊﾟｽ"]
[101,null,101,"仙台高等専門学校名取キャンパス","女",null,"981-1239","名取市愛島塩手字野田山48番地","022-381-0253",null,"高専名取","ｾﾝﾀﾞｲｺｳﾄｳｾﾝﾓﾝｶﾞｯｺｳ","ﾅﾄﾘｷｬﾝﾊﾟｽ"]
[102,"石巻",102,"宮城県石巻高等学校","男","T450289826","986-0838","石巻市大手町3-15","0225-93-8022","0225-93-8023","石巻","ﾐﾔｷﾞｹﾝｲｼﾉﾏｷ","ｺｳﾄｳｶﾞｯｺｳ"]
[103,null,103,"宮城県石巻高等学校","女","T460471494","986-0838","石巻市大手町3-15","0225-93-8022","0225-93-8023","石巻","ﾐﾔｷﾞｹﾝｲｼﾉﾏｷ","ｺｳﾄｳｶﾞｯｺｳ"]
[104,null,104,"宮城県石巻好文館高等学校","男","T450675691","986-0851","石巻市貞山3-4-1","0225-22-9161","0225-22-9163","石巻好文館","ﾐﾔｷﾞｹﾝｲｼﾉﾏｷｺｳﾌﾞﾝｶﾝ","ｺｳﾄｳｶﾞｯｺｳ"]
[105,null,105,"宮城県石巻好文館高等学校","女","T460419915","986-0851","石巻市貞山3-4-1","0225-22-9161","0225-22-9163","石巻好文館","ﾐﾔｷﾞｹﾝｲｼﾉﾏｷｺｳﾌﾞﾝｶﾝ","ｺｳﾄｳｶﾞｯｺｳ"]
[106,null,106,"宮城県石巻商業高等学校","男","T450216055","986-0031","石巻市南境字大樋20","0225-22-9188","0225-22-9189","石巻商業","ﾐﾔｷﾞｹﾝｲｼﾉﾏｷｼｮｳｷﾞｮｳ","ｺｳﾄｳｶﾞｯｺｳ"]
[107,null,107,"宮城県石巻商業高等学校","女","T460547237","986-0031","石巻市南境字大樋20","0225-22-9188","0225-22-9189","石巻商業","ﾐﾔｷﾞｹﾝｲｼﾉﾏｷｼｮｳｷﾞｮｳ","ｺｳﾄｳｶﾞｯｺｳ"]
[108,null,108,"宮城県石巻工業高等学校","男","T450425558","986-0851","石巻市貞山5-1-1","0225-22-6338","0225-22-6339","石巻工業","ﾐﾔｷﾞｹﾝｲｼﾉﾏｷｺｳｷﾞｮｳ","ｺｳﾄｳｶﾞｯｺｳ"]
[109,null,109,"石巻市立桜坂高等学校","女","T460534370","986-0833","石巻市日和が丘2-11-8","0225-22-4421","0225-22-0556","石巻市立桜坂","ｲｼﾉﾏｷｼﾘﾂｻｸﾗｻﾞｶ","ｺｳﾄｳｶﾞｯｺｳ"]
[110,null,110,"宮城県石巻北高等学校","男","T450707220","986-1111","石巻市鹿又字用水向126","0225-74-2211","0225-74-2212","石巻北","ﾐﾔｷﾞｹﾝｲｼﾉﾏｷｷﾀ","ｺｳﾄｳｶﾞｯｺｳ"]
[111,null,111,"宮城県石巻北高等学校","女","T461862320","986-1111","石巻市鹿又字用水向126","0225-74-2211","0225-74-2212","石巻北","ﾐﾔｷﾞｹﾝｲｼﾉﾏｷｷﾀ","ｺｳﾄｳｶﾞｯｺｳ"]
[112,null,112,"宮城県石巻西高等学校","男","T450880537","981-0501","東松島市赤井字七反谷地27","0225-83-3311","0225-83-3312","石巻西","ﾐﾔｷﾞｹﾝｲｼﾉﾏｷﾆｼ","ｺｳﾄｳｶﾞｯｺｳ"]
[113,null,113,"宮城県石巻西高等学校","女","T462219736","981-0501","東松島市赤井字七反谷地27","0225-83-3311","0225-83-3312","石巻西","ﾐﾔｷﾞｹﾝｲｼﾉﾏｷﾆｼ","ｺｳﾄｳｶﾞｯｺｳ"]
[114,null,114,"宮城県水産高等学校","男","T450975179","986-2113","石巻市宇田川町1-24","0225-24-0404","0225-24-1239","宮城水産","ﾐﾔｷﾞｹﾝｽｲｻﾝ","ｺｳﾄｳｶﾞｯｺｳ"]
[115,"大崎",115,"宮城県古川高等学校","男","T450468410","989-6155","大崎市古川南町2-3-17","0229-22-3034","0229-23-4621","古川","ﾐﾔｷﾞｹﾝﾌﾙｶﾜ","ｺｳﾄｳｶﾞｯｺｳ"]
[116,null,116,"宮城県古川高等学校","女","T460403277","989-6155","大崎市古川南町2-3-17","0229-22-3034","0229-23-4621","古川","ﾐﾔｷﾞｹﾝﾌﾙｶﾜ","ｺｳﾄｳｶﾞｯｺｳ"]
[117,null,117,"宮城県古川黎明高等学校","男","T450879894","989-6175","大崎市古川諏訪1-4-26","0229-22-3148","0229-22-1024","古川黎明","ﾐﾔｷﾞｹﾝﾌﾙｶﾜﾚｲﾒｲ","ｺｳﾄｳｶﾞｯｺｳ"]
[118,null,118,"宮城県古川黎明高等学校","女","T460904103","989-6175","大崎市古川諏訪1-4-26","0229-22-3148","0229-22-1024","古川黎明","ﾐﾔｷﾞｹﾝﾌﾙｶﾜﾚｲﾒｲ","ｺｳﾄｳｶﾞｯｺｳ"]
[119,null,119,"宮城県古川工業高等学校","男","T450286281","989-6171","大崎市古川北町4-7-1","0229-22-3166","0229-22-3182","古川工業","ﾐﾔｷﾞｹﾝﾌﾙｶﾜｺｳｷﾞｮｳ","ｺｳﾄｳｶﾞｯｺｳ"]
[120,null,120,"宮城県古川工業高等学校","女","T460547318","989-6171","大崎市古川北町4-7-1","0229-22-3166","0229-22-3182","古川工業","ﾐﾔｷﾞｹﾝﾌﾙｶﾜｺｳｷﾞｮｳ","ｺｳﾄｳｶﾞｯｺｳ"]
[121,null,121,"宮城県岩出山高等学校","男","T450827394","989-6437","大崎市岩出山字城山2","0229-72-1110","0229-72-1353","岩出山","ﾐﾔｷﾞｹﾝｲﾜﾃﾞﾔﾏ","ｺｳﾄｳｶﾞｯｺｳ"]
[122,null,122,"宮城県岩出山高等学校","女","T460893712","989-6437","大崎市岩出山字城山2","0229-72-1110","0229-72-1353","岩出山","ﾐﾔｷﾞｹﾝｲﾜﾃﾞﾔﾏ","ｺｳﾄｳｶﾞｯｺｳ"]
[123,null,123,"宮城県中新田高等学校","男","T450289732","981-4294","加美町字一本柳南28","0229-63-3022","0229-63-3023","中新田","ﾐﾔｷﾞｹﾝﾅｶﾆｲﾀﾞ","ｺｳﾄｳｶﾞｯｺｳ"]
[124,null,124,"宮城県中新田高等学校","女","T460245229","981-4294","加美町字一本柳南28","0229-63-3022","0229-63-3023","中新田","ﾐﾔｷﾞｹﾝﾅｶﾆｲﾀﾞ","ｺｳﾄｳｶﾞｯｺｳ"]
[125,null,125,"宮城県加美農業高等学校","男","T450647064","981-4111","色麻町黒沢字北條152","0229-65-3900","0229-65-3901","加美農業","ﾐﾔｷﾞｹﾝｶﾐﾉｳｷﾞｮｳ","ｺｳﾄｳｶﾞｯｺｳ"]
[126,null,126,"宮城県加美農業高等学校","女","T460571648","981-4111","色麻町黒沢字北條152","0229-65-3900","0229-65-3901","加美農業","ﾐﾔｷﾞｹﾝｶﾐﾉｳｷﾞｮｳ","ｺｳﾄｳｶﾞｯｺｳ"]
[127,null,127,"宮城県涌谷高等学校","男","T450294620","987-0121","涌谷町涌谷字八方谷三・1","0229-42-3331","0229-42-3332","涌谷","ﾐﾔｷﾞｹﾝﾜｸﾔ","ｺｳﾄｳｶﾞｯｺｳ"]
[128,null,128,"宮城県涌谷高等学校","女","T460249100","987-0121","涌谷町涌谷字八方谷三・1","0229-42-3331","0229-42-3332","涌谷","ﾐﾔｷﾞｹﾝﾜｸﾔ","ｺｳﾄｳｶﾞｯｺｳ"]
[129,null,129,"宮城県小牛田農林高等学校","男","T450327770","987-0004","美里町牛飼字伊勢堂裏30","0229-32-3125","0229-32-3126","小牛田農林","ﾐﾔｷﾞｹﾝｺｺﾞﾀﾉｳﾘﾝ","ｺｳﾄｳｶﾞｯｺｳ"]
[130,null,130,"宮城県小牛田農林高等学校","女","T460634922","987-0004","美里町牛飼字伊勢堂裏30","0229-32-3125","0229-32-3126","小牛田農林","ﾐﾔｷﾞｹﾝｺｺﾞﾀﾉｳﾘﾝ","ｺｳﾄｳｶﾞｯｺｳ"]
[131,null,131,"宮城県松山高等学校","男","T450427271","987-1304","大崎市松山千石字松山1-1","0229-55-2313","0229-55-2314","松山","ﾐﾔｷﾞｹﾝﾏﾂﾔﾏ","ｺｳﾄｳｶﾞｯｺｳ"]
[132,null,132,"宮城県松山高等学校","女","T462164206","987-1304","大崎市松山千石字松山1-1","0229-55-2313","0229-55-2314","松山","ﾐﾔｷﾞｹﾝﾏﾂﾔﾏ","ｺｳﾄｳｶﾞｯｺｳ"]
[133,null,133,"宮城県鹿島台商業高等学校","男","T450652371","989-4104","大崎市鹿島台広長字杢師前44","0229-56-2664","0229-56-2461","鹿島台商業","ﾐﾔｷﾞｹﾝｶｼﾏﾀﾞｲｼｮｳｷﾞｮｳ","ｺｳﾄｳｶﾞｯｺｳ"]
[{"$f":"ROW(A134)","v":134},null,{"$f":"A137","v":134},"宮城県鹿島台商業高等学校","女","T461809924","989-4104","大崎市鹿島台広長字杢師前44","0229-56-2664","0229-56-2461","鹿島台商業","ﾐﾔｷﾞｹﾝｶｼﾏﾀﾞｲｼｮｳｷﾞｮｳ","ｺｳﾄｳｶﾞｯｺｳ"]
[135,null,135,"宮城県南郷高等学校","男","T452338689","989-4204","美里町大柳字天神原7","0229-58-1122","0229-58-1123","南郷","ﾐﾔｷﾞｹﾝﾅﾝｺﾞｳ","ｺｳﾄｳｶﾞｯｺｳ"]
[136,null,136,"宮城県黒川高等学校","男","T450919694","981-3685","大和町吉岡字東柴崎62","022-345-2171","022-345-2172","黒川","ﾐﾔｷﾞｹﾝｸﾛｶﾜ","ｺｳﾄｳｶﾞｯｺｳ"]
[137,null,137,"古川学園高等学校","男","T450290245","989-6143","大崎市古川中里6-2-8","0229-22-2545","0229-22-2547","古川学園","ﾌﾙｶﾜｶﾞｸｴﾝ","ｺｳﾄｳｶﾞｯｺｳ"]
[138,null,138,"啓成学園大崎中央高等学校","男","T451368133","989-6105","大崎市古川福沼1-27-1","0229-22-2030","0229-23-8648","大崎中央","ｹｲｾｲｶﾞｸｴﾝｵｵｻｷﾁｭｳｵｳ","ｺｳﾄｳｶﾞｯｺｳ"]
[139,null,139,"啓成学園大崎中央高等学校","女","T462146223","989-6105","大崎市古川福沼1-27-1","0229-22-2030","0229-23-8648","大崎中央","ｹｲｾｲｶﾞｸｴﾝｵｵｻｷﾁｭｳｵｳ","ｺｳﾄｳｶﾞｯｺｳ"]
[140,"登米\n栗原",140,"宮城県築館高等学校","男","T450216732","987-2203","栗原市築館字下宮野町浦22","0228-22-3126","0228-22-4104","築館","ﾐﾔｷﾞｹﾝﾂｷﾀﾞﾃ","ｺｳﾄｳｶﾞｯｺｳ"]
[141,null,141,"宮城県築館高等学校","女","T460528236","987-2203","栗原市築館字下宮野町浦22","0228-22-3126","0228-22-4104","築館","ﾐﾔｷﾞｹﾝﾂｷﾀﾞﾃ","ｺｳﾄｳｶﾞｯｺｳ"]
[142,null,142,"宮城県迫桜高等学校","男","T450839203","989-5502","栗原市若柳字川南戸ノ西184","0228-35-1818","0228-35-1822","迫桜","ﾐﾔｷﾞｹﾝﾊｸｵｳ","ｺｳﾄｳｶﾞｯｺｳ"]
[143,null,143,"宮城県迫桜高等学校","女","T460760799","989-5502","栗原市若柳字川南戸ノ西184","0228-35-1818","0228-35-1822","迫桜","ﾐﾔｷﾞｹﾝﾊｸｵｳ","ｺｳﾄｳｶﾞｯｺｳ"]
[144,null,144,"宮城県岩ケ崎高等学校","男","T450426222","989-5351","栗原市栗駒中野愛宕下1-3","0228-45-2266","0228-45-2267","岩ケ崎","ﾐﾔｷﾞｹﾝｲﾜｶﾞｻｷ","ｺｳﾄｳｶﾞｯｺｳ"]
[145,null,145,"宮城県岩ケ崎高等学校","女","T460363044","989-5351","栗原市栗駒中野愛宕下1-3","0228-45-2266","0228-45-2267","岩ケ崎","ﾐﾔｷﾞｹﾝｲﾜｶﾞｻｷ","ｺｳﾄｳｶﾞｯｺｳ"]
[146,null,146,"宮城県一迫商業高等学校","男","T450708849","987-2308","栗原市一迫真坂字町東133","0228-52-4112","0228-52-4111","一迫商業","ﾐﾔｷﾞｹﾝｲﾁﾊｻﾏｼｮｳｷﾞｮｳ","ｺｳﾄｳｶﾞｯｺｳ"]
[147,null,147,"宮城県佐沼高等学校","男","T450596473","987-0511","登米市迫町佐沼字末広1","0220-22-2022","0220-22-2023","佐沼","ﾐﾔｷﾞｹﾝｻﾇﾏ","ｺｳﾄｳｶﾞｯｺｳ"]
[148,null,148,"宮城県佐沼高等学校","女","T460526506","987-0511","登米市迫町佐沼字末広1","0220-22-2022","0220-22-2023","佐沼","ﾐﾔｷﾞｹﾝｻﾇﾏ","ｺｳﾄｳｶﾞｯｺｳ"]
[149,null,149,"宮城県登米高等学校","男","T450831148","987-0702","登米市登米町寺池桜小路3","0220-52-2670","0220-52-2671","登米","ﾐﾔｷﾞｹﾝﾄﾒ","ｺｳﾄｳｶﾞｯｺｳ"]
[150,null,150,"宮城県登米高等学校","女","T460628252","987-0702","登米市登米町寺池桜小路3","0220-52-2670","0220-52-2671","登米","ﾐﾔｷﾞｹﾝﾄﾒ","ｺｳﾄｳｶﾞｯｺｳ"]
[151,null,151,"宮城県登米総合産業高等学校","男","T450242809","987-0602","登米市中田町上沼字北桜場223-1","0220-34-4666","0220-34-4655","登米総合","ﾐﾔｷﾞｹﾝﾄﾒｿｳｺﾞｳｻﾝｷﾞｮｳ","ｺｳﾄｳｶﾞｯｺｳ"]
[152,null,152,"宮城県登米総合産業高等学校","女","T462220449","987-0602","登米市中田町上沼字北桜場223-1","0220-34-4666","0220-34-4655","登米総合","ﾐﾔｷﾞｹﾝﾄﾒｿｳｺﾞｳｻﾝｷﾞｮｳ","ｺｳﾄｳｶﾞｯｺｳ"]
[153,"本吉",153,"宮城県気仙沼高等学校","男","T450206254","988-0051","気仙沼市字常楽130","0226-24-3400","0226-24-3408","気仙沼","ﾐﾔｷﾞｹﾝｹｾﾝﾇﾏ","ｺｳﾄｳｶﾞｯｺｳ"]
[154,null,154,"宮城県気仙沼高等学校","女","T460158511","988-0051","気仙沼市字常楽130","0226-24-3400","0226-24-3408","気仙沼","ﾐﾔｷﾞｹﾝｹｾﾝﾇﾏ","ｺｳﾄｳｶﾞｯｺｳ"]
[155,null,155,"宮城県気仙沼向洋高等学校","男","T450904866","988-0235","気仙沼市長磯牧通78","0226-27-2311","0226-27-4413","気仙沼向洋","ﾐﾔｷﾞｹﾝｹｾﾝﾇﾏｺｳﾖｳ","ｺｳﾄｳｶﾞｯｺｳ"]
[156,null,156,"宮城県気仙沼向洋高等学校","女","T460826031","988-0235","気仙沼市長磯牧通78","0226-27-2311","0226-27-4413","気仙沼向洋","ﾐﾔｷﾞｹﾝｹｾﾝﾇﾏｺｳﾖｳ","ｺｳﾄｳｶﾞｯｺｳ"]
[157,null,157,"宮城県南三陸高等学校","男","T450861827","986-0775","南三陸町志津川字廻舘92-2","0226-46-3643","0226-46-3648","南三陸","ﾐﾔｷﾞｹﾝﾐﾅﾐｻﾝﾘｸ","ｺｳﾄｳｶﾞｯｺｳ"]
[158,null,158,"宮城県南三陸高等学校","女","T460717463","986-0775","南三陸町志津川字廻舘92-2","0226-46-3643","0226-46-3648","南三陸","ﾐﾔｷﾞｹﾝﾐﾅﾐｻﾝﾘｸ","ｺｳﾄｳｶﾞｯｺｳ"]
[159,null,159,"宮城県本吉響高等学校","男","T450959089","988-0341","気仙沼市本吉町津谷桜子2-24","0226-42-2627","0226-42-2628","本吉響","ﾐﾔｷﾞｹﾝﾓﾄﾖｼﾋﾋﾞｷ","ｺｳﾄｳｶﾞｯｺｳ"]
[160,null,160,"宮城県本吉響高等学校","女","T460834391","988-0341","気仙沼市本吉町津谷桜子2-24","0226-42-2627","0226-42-2628","本吉響","ﾐﾔｷﾞｹﾝﾓﾄﾖｼﾋﾋﾞｷ","ｺｳﾄｳｶﾞｯｺｳ"]
[161,null,161,"東陵高等学校","男","T450737547","988-0812","気仙沼市大峠山1番地1","0226-23-3100","0226-23-3107","東陵","ﾄｳﾘｮｳ","ｺｳﾄｳｶﾞｯｺｳ"]
[162,"その他\n追加\n変更",162,"上にチーム名がない場合はこちらに入力",null,null,null,null,null,null,null,null,"ｺｳﾄｳｶﾞｯｺｳ"]
[163,null,163,"上にチーム名がない場合はこちらに入力",null,null,null,null,null,null,null,null,"ｺｳﾄｳｶﾞｯｺｳ"]
[164,null,164,"上にチーム名がない場合はこちらに入力",null,null,null,null,null,null,null,null,"ｺｳﾄｳｶﾞｯｺｳ"]
[165,null,165,"上にチーム名がない場合はこちらに入力",null,null,null,null,null,null,null,null,"ｺｳﾄｳｶﾞｯｺｳ"]
[166,null,166,"上にチーム名がない場合はこちらに入力",null,null,null,null,null,null,null,null,"ｺｳﾄｳｶﾞｯｺｳ"]
[167,null,167,"上にチーム名がない場合はこちらに入力",null,null,null,null,null,null,null,null,"ｺｳﾄｳｶﾞｯｺｳ"]
[168,null,168,"上にチーム名がない場合はこちらに入力",null,null,null,null,null,null,null,null,"ｺｳﾄｳｶﾞｯｺｳ"]
[169,null,{"$f":"A172","v":169},"上にチーム名がない場合はこちらに入力",null,null,null,null,null,null,null,null,"ｺｳﾄｳｶﾞｯｺｳ"]
[170,null,170,"上にチーム名がない場合はこちらに入力",null,null,null,null,null,null,null,null,"ｺｳﾄｳｶﾞｯｺｳ"]
[]
[]
[]
["追加・変更履歴",null,null,"明成高等学校を仙台大学附属明成高等学校に変更"]
[null,null,null,"黒川高等学校を仙塩地区から大崎地区に変更"]
[null,null,null,"泉松陵高等学校女子を追加"]
[null,null,null,"志津川高等学校を南三陸高等学校に変更"]
[null,null,null,"大河原産業高等学校（男・女）を追加"]
[null,null,null,"仙台高等専門学校名取キャンパスの男子チームIDを追記"]

{"sheet":"【入力1】チーム情報","index":2,"n_rows":38,"n_cols":18,"rows_kept":38,"cut":false,"hidden":false,"merged":[[4,2,4,3],[3,2,3,3],[3,4,3,6],[8,1,8,2],[7,1,7,2],[6,1,6,2],[4,4,4,5],[12,1,12,2],[11,1,11,2],[10,1,10,2],[9,1,9,2],[34,5,34,7]]}
[null,1,2,3,4,5,6,7,8,10,11,12,13,14,15,18,19,20]
[1,{"$f":"YEAR(EDATE($H$2,-3))","v":2023},"チームおよびスタッフ情報入力シート",null,null,null,null,{"$f":"TODAY()","v":"2024-03-05"}]
[2]
[3,"学校番号","チームID",null,"学校名 （ﾌﾘｶﾞﾅ）",null,null,"学校長名"]
[4,null,{"$f":"VLOOKUP(B5,学校番号!$C$4:$N$173,4,1)","v":{"$error":"#N/A"}},null,{"$f":"VLOOKUP(B5,学校番号!$C$4:$N$173,10,1)&\" \"&VLOOKUP(B5,学校番号!$C$4:$N$173,11,1)&CHAR(10) &VLOOKUP(B5,学校番号!$C$4:$N$173,2,1)","v":{"$error":"#N/A"}},null,{"$f":"IFERROR(VLOOKUP(B5,学校番号!$C$4:$N$173,3,1)&\"子\",\"\")","v":""},null,null,{"$f":"VLOOKUP(B5,学校番号!$C$4:$N$173,9,1)","v":{"$error":"#N/A"}}]
[5,null,null,null,null,null,null,"ver.2024_1a"]
[6,"スタッフ",null,"メンバーID","氏　名　［スタッフ］"]
[7,"監督"]
[8,"コーチ"]
[9,"Ａコーチ"]
[10,"マネージャー"]
[11,"マネージャー"]
[12,"マネージャー",null,null,null,null,null,null,null,null,"番号順に拾い直し"]
[13,null,null,null,null,null,null,null,null,null,null,1,2,3,4,5,6]
[14,"通しNo.","公式番号","メンバーID","氏　名　［選手］","学　年","身　長","出身中学",null,null,null,"公式背番号","氏名","身長","学年","出身中学","ID","ポジ"]
[15,1,{"$f":"IF(【入力2】部員情報!T5<>\"\",【入力2】部員情報!T5,\"\")","v":""},{"$f":"IF(C16<>\"\",VLOOKUP(C16,【入力2】部員情報!$E$5:$Q$104,8,0),\"\")","v":""},{"$f":"IF(C16<>\"\",VLOOKUP(C16,【入力2】部員情報!$E$5:$Q$104,10,0),\"\")","v":""},{"$f":"IF(C16<>\"\",VLOOKUP(C16,【入力2】部員情報!$E$5:$Q$104,12,0),\"\")","v":""},{"$f":"IF(C16<>\"\",VLOOKUP(C16,【入力2】部員情報!$E$5:$Q$104,13,0),\"\")","v":""},{"$f":"IF(C16<>\"\",VLOOKUP(C16,【入力2】部員情報!$E$5:$P$104,9,0),\"\")","v":""},null,1,{"$f":"SMALL($C$16:$C$33,ROW(A1))","v":{"$error":"#NUM!"}},{"$f":"IFERROR(INDEX(C$16:C$33,MATCH($K16,$C$16:$C$33,0)),\"\")","v":""},{"$f":"IFERROR(INDEX(E$16:E$33,MATCH($K16,$C$16:$C$33,0)),\"\")","v":""},{"$f":"IFERROR(INDEX(G$16:G$33,MATCH($K16,$C$16:$C$33,0)),\"\")","v":""},{"$f":"IFERROR(INDEX(F$16:F$33,MATCH($K16,$C$16:$C$33,0)),\"\")","v":""},{"$f":"IFERROR(INDEX(H$16:H$33,MATCH($K16,$C$16:$C$33,0)),\"\")","v":""},{"$f":"IFERROR(INDEX(D$16:D$33,MATCH($K16,$C$16:$C$33,0)),\"\")","v":""},{"$f":"IF(L16<>\"\",VLOOKUP(L16,【入力2】部員情報!$E$5:$P$104,2,0),\"\")","v":""}]
[16,2,{"$f":"IF(【入力2】部員情報!T6<>\"\",【入力2】部員情報!T6,\"\")","v":""},{"$f":"IF(C17<>\"\",VLOOKUP(C17,【入力2】部員情報!$E$5:$Q$104,8,0),\"\")","v":""},{"$f":"IF(C17<>\"\",VLOOKUP(C17,【入力2】部員情報!$E$5:$Q$104,10,0),\"\")","v":""},{"$f":"IF(C17<>\"\",VLOOKUP(C17,【入力2】部員情報!$E$5:$Q$104,12,0),\"\")","v":""},{"$f":"IF(C17<>\"\",VLOOKUP(C17,【入力2】部員情報!$E$5:$Q$104,13,0),\"\")","v":""},{"$f":"IF(C17<>\"\",VLOOKUP(C17,【入力2】部員情報!$E$5:$P$104,9,0),\"\")","v":""},null,2,{"$error":"#NUM!"},"","","","","","",{"$f":"IF(L17<>\"\",VLOOKUP(L17,【入力2】部員情報!$E$5:$P$104,2,0),\"\")","v":""}]
[17,3,{"$f":"IF(【入力2】部員情報!T7<>\"\",【入力2】部員情報!T7,\"\")","v":""},{"$f":"IF(C18<>\"\",VLOOKUP(C18,【入力2】部員情報!$E$5:$Q$104,8,0),\"\")","v":""},{"$f":"IF(C18<>\"\",VLOOKUP(C18,【入力2】部員情報!$E$5:$Q$104,10,0),\"\")","v":""},{"$f":"IF(C18<>\"\",VLOOKUP(C18,【入力2】部員情報!$E$5:$Q$104,12,0),\"\")","v":""},{"$f":"IF(C18<>\"\",VLOOKUP(C18,【入力2】部員情報!$E$5:$Q$104,13,0),\"\")","v":""},{"$f":"IF(C18<>\"\",VLOOKUP(C18,【入力2】部員情報!$E$5:$P$104,9,0),\"\")","v":""},null,3,{"$error":"#NUM!"},"","","","","","",{"$f":"IF(L18<>\"\",VLOOKUP(L18,【入力2】部員情報!$E$5:$P$104,2,0),\"\")","v":""}]
[18,4,{"$f":"IF(【入力2】部員情報!T8<>\"\",【入力2】部員情報!T8,\"\")","v":""},{"$f":"IF(C19<>\"\",VLOOKUP(C19,【入力2】部員情報!$E$5:$Q$104,8,0),\"\")","v":""},{"$f":"IF(C19<>\"\",VLOOKUP(C19,【入力2】部員情報!$E$5:$Q$104,10,0),\"\")","v":""},{"$f":"IF(C19<>\"\",VLOOKUP(C19,【入力2】部員情報!$E$5:$Q$104,12,0),\"\")","v":""},{"$f":"IF(C19<>\"\",VLOOKUP(C19,【入力2】部員情報!$E$5:$Q$104,13,0),\"\")","v":""},{"$f":"IF(C19<>\"\",VLOOKUP(C19,【入力2】部員情報!$E$5:$P$104,9,0),\"\")","v":""},null,4,{"$error":"#NUM!"},"","","","","","",{"$f":"IF(L19<>\"\",VLOOKUP(L19,【入力2】部員情報!$E$5:$P$104,2,0),\"\")","v":""}]
[19,5,{"$f":"IF(【入力2】部員情報!T9<>\"\",【入力2】部員情報!T9,\"\")","v":""},{"$f":"IF(C20<>\"\",VLOOKUP(C20,【入力2】部員情報!$E$5:$Q$104,8,0),\"\")","v":""},{"$f":"IF(C20<>\"\",VLOOKUP(C20,【入力2】部員情報!$E$5:$Q$104,10,0),\"\")","v":""},{"$f":"IF(C20<>\"\",VLOOKUP(C20,【入力2】部員情報!$E$5:$Q$104,12,0),\"\")","v":""},{"$f":"IF(C20<>\"\",VLOOKUP(C20,【入力2】部員情報!$E$5:$Q$104,13,0),\"\")","v":""},{"$f":"IF(C20<>\"\",VLOOKUP(C20,【入力2】部員情報!$E$5:$P$104,9,0),\"\")","v":""},null,5,{"$error":"#NUM!"},"","","","","","",{"$f":"IF(L20<>\"\",VLOOKUP(L20,【入力2】部員情報!$E$5:$P$104,2,0),\"\")","v":""}]
[20,6,{"$f":"IF(【入力2】部員情報!T10<>\"\",【入力2】部員情報!T10,\"\")","v":""},{"$f":"IF(C21<>\"\",VLOOKUP(C21,【入力2】部員情報!$E$5:$Q$104,8,0),\"\")","v":""},{"$f":"IF(C21<>\"\",VLOOKUP(C21,【入力2】部員情報!$E$5:$Q$104,10,0),\"\")","v":""},{"$f":"IF(C21<>\"\",VLOOKUP(C21,【入力2】部員情報!$E$5:$Q$104,12,0),\"\")","v":""},{"$f":"IF(C21<>\"\",VLOOKUP(C21,【入力2】部員情報!$E$5:$Q$104,13,0),\"\")","v":""},{"$f":"IF(C21<>\"\",VLOOKUP(C21,【入力2】部員情報!$E$5:$P$104,9,0),\"\")","v":""},null,6,{"$error":"#NUM!"},"","","","","","",{"$f":"IF(L21<>\"\",VLOOKUP(L21,【入力2】部員情報!$E$5:$P$104,2,0),\"\")","v":""}]
[21,7,{"$f":"IF(【入力2】部員情報!T11<>\"\",【入力2】部員情報!T11,\"\")","v":""},{"$f":"IF(C22<>\"\",VLOOKUP(C22,【入力2】部員情報!$E$5:$Q$104,8,0),\"\")","v":""},{"$f":"IF(C22<>\"\",VLOOKUP(C22,【入力2】部員情報!$E$5:$Q$104,10,0),\"\")","v":""},{"$f":"IF(C22<>\"\",VLOOKUP(C22,【入力2】部員情報!$E$5:$Q$104,12,0),\"\")","v":""},{"$f":"IF(C22<>\"\",VLOOKUP(C22,【入力2】部員情報!$E$5:$Q$104,13,0),\"\")","v":""},{"$f":"IF(C22<>\"\",VLOOKUP(C22,【入力2】部員情報!$E$5:$P$104,9,0),\"\")","v":""},null,7,{"$error":"#NUM!"},"","","","","","",{"$f":"IF(L22<>\"\",VLOOKUP(L22,【入力2】部員情報!$E$5:$P$104,2,0),\"\")","v":""}]
[22,8,{"$f":"IF(【入力2】部員情報!T12<>\"\",【入力2】部員情報!T12,\"\")","v":""},{"$f":"IF(C23<>\"\",VLOOKUP(C23,【入力2】部員情報!$E$5:$Q$104,8,0),\"\")","v":""},{"$f":"IF(C23<>\"\",VLOOKUP(C23,【入力2】部員情報!$E$5:$Q$104,10,0),\"\")","v":""},{"$f":"IF(C23<>\"\",VLOOKUP(C23,【入力2】部員情報!$E$5:$Q$104,12,0),\"\")","v":""},{"$f":"IF(C23<>\"\",VLOOKUP(C23,【入力2】部員情報!$E$5:$Q$104,13,0),\"\")","v":""},{"$f":"IF(C23<>\"\",VLOOKUP(C23,【入力2】部員情報!$E$5:$P$104,9,0),\"\")","v":""},null,8,{"$error":"#NUM!"},"","","","","","",{"$f":"IF(L23<>\"\",VLOOKUP(L23,【入力2】部員情報!$E$5:$P$104,2,0),\"\")","v":""}]
[23,9,{"$f":"IF(【入力2】部員情報!T13<>\"\",【入力2】部員情報!T13,\"\")","v":""},{"$f":"IF(C24<>\"\",VLOOKUP(C24,【入力2】部員情報!$E$5:$Q$104,8,0),\"\")","v":""},{"$f":"IF(C24<>\"\",VLOOKUP(C24,【入力2】部員情報!$E$5:$Q$104,10,0),\"\")","v":""},{"$f":"IF(C24<>\"\",VLOOKUP(C24,【入力2】部員情報!$E$5:$Q$104,12,0),\"\")","v":""},{"$f":"IF(C24<>\"\",VLOOKUP(C24,【入力2】部員情報!$E$5:$Q$104,13,0),\"\")","v":""},{"$f":"IF(C24<>\"\",VLOOKUP(C24,【入力2】部員情報!$E$5:$P$104,9,0),\"\")","v":""},null,9,{"$error":"#NUM!"},"","","","","","",{"$f":"IF(L24<>\"\",VLOOKUP(L24,【入力2】部員情報!$E$5:$P$104,2,0),\"\")","v":""}]
[24,10,{"$f":"IF(【入力2】部員情報!T14<>\"\",【入力2】部員情報!T14,\"\")","v":""},{"$f":"IF(C25<>\"\",VLOOKUP(C25,【入力2】部員情報!$E$5:$Q$104,8,0),\"\")","v":""},{"$f":"IF(C25<>\"\",VLOOKUP(C25,【入力2】部員情報!$E$5:$Q$104,10,0),\"\")","v":""},{"$f":"IF(C25<>\"\",VLOOKUP(C25,【入力2】部員情報!$E$5:$Q$104,12,0),\"\")","v":""},{"$f":"IF(C25<>\"\",VLOOKUP(C25,【入力2】部員情報!$E$5:$Q$104,13,0),\"\")","v":""},{"$f":"IF(C25<>\"\",VLOOKUP(C25,【入力2】部員情報!$E$5:$P$104,9,0),\"\")","v":""},null,10,{"$error":"#NUM!"},"","","","","","",{"$f":"IF(L25<>\"\",VLOOKUP(L25,【入力2】部員情報!$E$5:$P$104,2,0),\"\")","v":""}]
[25,11,{"$f":"IF(【入力2】部員情報!T15<>\"\",【入力2】部員情報!T15,\"\")","v":""},{"$f":"IF(C26<>\"\",VLOOKUP(C26,【入力2】部員情報!$E$5:$Q$104,8,0),\"\")","v":""},{"$f":"IF(C26<>\"\",VLOOKUP(C26,【入力2】部員情報!$E$5:$Q$104,10,0),\"\")","v":""},{"$f":"IF(C26<>\"\",VLOOKUP(C26,【入力2】部員情報!$E$5:$Q$104,12,0),\"\")","v":""},{"$f":"IF(C26<>\"\",VLOOKUP(C26,【入力2】部員情報!$E$5:$Q$104,13,0),\"\")","v":""},{"$f":"IF(C26<>\"\",VLOOKUP(C26,【入力2】部員情報!$E$5:$P$104,9,0),\"\")","v":""},null,11,{"$error":"#NUM!"},"","","","","","",{"$f":"IF(L26<>\"\",VLOOKUP(L26,【入力2】部員情報!$E$5:$P$104,2,0),\"\")","v":""}]
[26,12,{"$f":"IF(【入力2】部員情報!T16<>\"\",【入力2】部員情報!T16,\"\")","v":""},{"$f":"IF(C27<>\"\",VLOOKUP(C27,【入力2】部員情報!$E$5:$Q$104,8,0),\"\")","v":""},{"$f":"IF(C27<>\"\",VLOOKUP(C27,【入力2】部員情報!$E$5:$Q$104,10,0),\"\")","v":""},{"$f":"IF(C27<>\"\",VLOOKUP(C27,【入力2】部員情報!$E$5:$Q$104,12,0),\"\")","v":""},{"$f":"IF(C27<>\"\",VLOOKUP(C27,【入力2】部員情報!$E$5:$Q$104,13,0),\"\")","v":""},{"$f":"IF(C27<>\"\",VLOOKUP(C27,【入力2】部員情報!$E$5:$P$104,9,0),\"\")","v":""},null,12,{"$error":"#NUM!"},"","","","","","",{"$f":"IF(L27<>\"\",VLOOKUP(L27,【入力2】部員情報!$E$5:$P$104,2,0),\"\")","v":""}]
[27,13,{"$f":"IF(【入力2】部員情報!T17<>\"\",【入力2】部員情報!T17,\"\")","v":""},{"$f":"IF(C28<>\"\",VLOOKUP(C28,【入力2】部員情報!$E$5:$Q$104,8,0),\"\")","v":""},{"$f":"IF(C28<>\"\",VLOOKUP(C28,【入力2】部員情報!$E$5:$Q$104,10,0),\"\")","v":""},{"$f":"IF(C28<>\"\",VLOOKUP(C28,【入力2】部員情報!$E$5:$Q$104,12,0),\"\")","v":""},{"$f":"IF(C28<>\"\",VLOOKUP(C28,【入力2】部員情報!$E$5:$Q$104,13,0),\"\")","v":""},{"$f":"IF(C28<>\"\",VLOOKUP(C28,【入力2】部員情報!$E$5:$P$104,9,0),\"\")","v":""},null,13,{"$error":"#NUM!"},"","","","","","",{"$f":"IF(L28<>\"\",VLOOKUP(L28,【入力2】部員情報!$E$5:$P$104,2,0),\"\")","v":""}]
[28,14,{"$f":"IF(【入力2】部員情報!T18<>\"\",【入力2】部員情報!T18,\"\")","v":""},{"$f":"IF(C29<>\"\",VLOOKUP(C29,【入力2】部員情報!$E$5:$Q$104,8,0),\"\")","v":""},{"$f":"IF(C29<>\"\",VLOOKUP(C29,【入力2】部員情報!$E$5:$Q$104,10,0),\"\")","v":""},{"$f":"IF(C29<>\"\",VLOOKUP(C29,【入力2】部員情報!$E$5:$Q$104,12,0),\"\")","v":""},{"$f":"IF(C29<>\"\",VLOOKUP(C29,【入力2】部員情報!$E$5:$Q$104,13,0),\"\")","v":""},{"$f":"IF(C29<>\"\",VLOOKUP(C29,【入力2】部員情報!$E$5:$P$104,9,0),\"\")","v":""},null,14,{"$error":"#NUM!"},"","","","","","",{"$f":"IF(L29<>\"\",VLOOKUP(L29,【入力2】部員情報!$E$5:$P$104,2,0),\"\")","v":""}]
[29,15,{"$f":"IF(【入力2】部員情報!T19<>\"\",【入力2】部員情報!T19,\"\")","v":""},{"$f":"IF(C30<>\"\",VLOOKUP(C30,【入力2】部員情報!$E$5:$Q$104,8,0),\"\")","v":""},{"$f":"IF(C30<>\"\",VLOOKUP(C30,【入力2】部員情報!$E$5:$Q$104,10,0),\"\")","v":""},{"$f":"IF(C30<>\"\",VLOOKUP(C30,【入力2】部員情報!$E$5:$Q$104,12,0),\"\")","v":""},{"$f":"IF(C30<>\"\",VLOOKUP(C30,【入力2】部員情報!$E$5:$Q$104,13,0),\"\")","v":""},{"$f":"IF(C30<>\"\",VLOOKUP(C30,【入力2】部員情報!$E$5:$P$104,9,0),\"\")","v":""},null,15,{"$error":"#NUM!"},"","","","","","",{"$f":"IF(L30<>\"\",VLOOKUP(L30,【入力2】部員情報!$E$5:$P$104,2,0),\"\")","v":""}]
[30,16,{"$f":"IF(【入力2】部員情報!T20<>\"\",【入力2】部員情報!T20,\"\")","v":""},{"$f":"IF(C31<>\"\",VLOOKUP(C31,【入力2】部員情報!$E$5:$Q$104,8,0),\"\")","v":""},{"$f":"IF(C31<>\"\",VLOOKUP(C31,【入力2】部員情報!$E$5:$Q$104,10,0),\"\")","v":""},{"$f":"IF(C31<>\"\",VLOOKUP(C31,【入力2】部員情報!$E$5:$Q$104,12,0),\"\")","v":""},{"$f":"IF(C31<>\"\",VLOOKUP(C31,【入力2】部員情報!$E$5:$Q$104,13,0),\"\")","v":""},{"$f":"IF(C31<>\"\",VLOOKUP(C31,【入力2】部員情報!$E$5:$P$104,9,0),\"\")","v":""},null,16,{"$error":"#NUM!"},"","","","","","",{"$f":"IF(L31<>\"\",VLOOKUP(L31,【入力2】部員情報!$E$5:$P$104,2,0),\"\")","v":""}]
[31,17,{"$f":"IF(【入力2】部員情報!T21<>\"\",【入力2】部員情報!T21,\"\")","v":""},{"$f":"IF(C32<>\"\",VLOOKUP(C32,【入力2】部員情報!$E$5:$Q$104,8,0),\"\")","v":""},{"$f":"IF(C32<>\"\",VLOOKUP(C32,【入力2】部員情報!$E$5:$Q$104,10,0),\"\")","v":""},{"$f":"IF(C32<>\"\",VLOOKUP(C32,【入力2】部員情報!$E$5:$Q$104,12,0),\"\")","v":""},{"$f":"IF(C32<>\"\",VLOOKUP(C32,【入力2】部員情報!$E$5:$Q$104,13,0),\"\")","v":""},{"$f":"IF(C32<>\"\",VLOOKUP(C32,【入力2】部員情報!$E$5:$P$104,9,0),\"\")","v":""},null,17,{"$error":"#NUM!"},"","","","","","",{"$f":"IF(L32<>\"\",VLOOKUP(L32,【入力2】部員情報!$E$5:$P$104,2,0),\"\")","v":""}]
[32,18,{"$f":"IF(【入力2】部員情報!T22<>\"\",【入力2】部員情報!T22,\"\")","v":""},{"$f":"IF(C33<>\"\",VLOOKUP(C33,【入力2】部員情報!$E$5:$Q$104,8,0),\"\")","v":""},{"$f":"IF(C33<>\"\",VLOOKUP(C33,【入力2】部員情報!$E$5:$Q$104,10,0),\"\")","v":""},{"$f":"IF(C33<>\"\",VLOOKUP(C33,【入力2】部員情報!$E$5:$Q$104,12,0),\"\")","v":""},{"$f":"IF(C33<>\"\",VLOOKUP(C33,【入力2】部員情報!$E$5:$Q$104,13,0),\"\")","v":""},{"$f":"IF(C33<>\"\",VLOOKUP(C33,【入力2】部員情報!$E$5:$P$104,9,0),\"\")","v":""},null,18,{"$error":"#NUM!"},"","","","","","",{"$f":"IF(L33<>\"\",VLOOKUP(L33,【入力2】部員情報!$E$5:$P$104,2,0),\"\")","v":""}]
[33]
[34,null,null,null,{"$f":"COUNTA(E16:E33)","v":18},{"$f":"\"　（ 内訳　1学年　\"&COUNTIF($F$16:$F$33,1)&\"名、\"&\" 2学年　\"&COUNTIF($F$16:$F$33,2)&\"名、\"&\" 3学年　\"&COUNTIF($F$16:$F$33,3)&\"名 ）\"","v":"　（ 内訳　1学年　0名、 2学年　0名、 3学年　0名 ）"}]
[35]
[36]
[37]

{"sheet":"【入力2】部員情報","index":3,"n_rows":104,"n_cols":24,"rows_kept":104,"cut":false,"hidden":false,"merged":[[0,18,2,22]]}
[null,1,2,3,4,5,6,7,8,9,10,11,12,13,14,15,16,null,"「公式大会番号」に番号が入力された選手が番号順に表示されます↓（確認用）"]
[null,"■ 所属選手名簿を下表に作成してください。（チーム内選手全員分が入力できます）",null,null,null,null,null,null,null,null,null,null,"・・・塗りつぶし部分を入力"]
[null,null,"半角","半角","半角",null,"半角",null,null,null,null,"半角","「中」以降、入力なし"]
[null,"通し番号","学年","個人番号","公式大会番号","ポジション","身長","氏","名","ふりがな（氏）","ふりがな（名）","メンバーID","出身中学",null,null,{"$f":"C4","v":"学年"},{"$f":"G4","v":"身長"},null,null,"公式番号","確認用氏名","ポジ","身長"]
[null,{"$f":"IF(C5<>\"\",ROW(B1),\"\")","v":""},null,null,null,null,null,null,null,null,null,null,null,{"$f":"H5&\"　\"&I5","v":"　"},{"$f":"J5&\"　\"&K5","v":"　"},0,0,null,1,{"$f":"IFERROR(SMALL($E$5:$E$104,ROW(A1)), \"\")","v":""},{"$f":"IF(T5<>\"\",VLOOKUP(T5,【入力2】部員情報!$E$5:$Q$104,10,0),\"\")","v":""},{"$f":"IF(T5<>\"\",VLOOKUP(T5,【入力2】部員情報!$E$5:$Q$104,2,0),\"\")","v":""},{"$f":"IF(T5<>\"\",VLOOKUP(T5,【入力2】部員情報!$E$5:$Q$104,3,0),\"\")","v":""}]
[null,{"$f":"IF(C6<>\"\",ROW(B2),\"\")","v":""},null,null,null,null,null,null,null,null,null,null,null,{"$f":"H6&\"　\"&I6","v":"　"},{"$f":"J6&\"　\"&K6","v":"　"},0,0,null,2,{"$f":"IFERROR(SMALL($E$5:$E$104,ROW(A2)), \"\")","v":""},{"$f":"IF(T6<>\"\",VLOOKUP(T6,【入力2】部員情報!$E$5:$Q$104,10,0),\"\")","v":""},{"$f":"IF(T6<>\"\",VLOOKUP(T6,【入力2】部員情報!$E$5:$Q$104,2,0),\"\")","v":""},{"$f":"IF(T6<>\"\",VLOOKUP(T6,【入力2】部員情報!$E$5:$Q$104,3,0),\"\")","v":""}]
[null,"",null,null,null,null,null,null,null,null,null,null,null,"　","　",0,0,null,3,"",{"$f":"IF(T7<>\"\",VLOOKUP(T7,【入力2】部員情報!$E$5:$Q$104,10,0),\"\")","v":""},{"$f":"IF(T7<>\"\",VLOOKUP(T7,【入力2】部員情報!$E$5:$Q$104,2,0),\"\")","v":""},{"$f":"IF(T7<>\"\",VLOOKUP(T7,【入力2】部員情報!$E$5:$Q$104,3,0),\"\")","v":""}]
[null,"",null,null,null,null,null,null,null,null,null,null,null,"　","　",0,0,null,4,"",{"$f":"IF(T8<>\"\",VLOOKUP(T8,【入力2】部員情報!$E$5:$Q$104,10,0),\"\")","v":""},{"$f":"IF(T8<>\"\",VLOOKUP(T8,【入力2】部員情報!$E$5:$Q$104,2,0),\"\")","v":""},{"$f":"IF(T8<>\"\",VLOOKUP(T8,【入力2】部員情報!$E$5:$Q$104,3,0),\"\")","v":""}]
[null,"",null,null,null,null,null,null,null,null,null,null,null,"　","　",0,0,null,5,"",{"$f":"IF(T9<>\"\",VLOOKUP(T9,【入力2】部員情報!$E$5:$Q$104,10,0),\"\")","v":""},{"$f":"IF(T9<>\"\",VLOOKUP(T9,【入力2】部員情報!$E$5:$Q$104,2,0),\"\")","v":""},{"$f":"IF(T9<>\"\",VLOOKUP(T9,【入力2】部員情報!$E$5:$Q$104,3,0),\"\")","v":""}]
[null,"",null,null,null,null,null,null,null,null,null,null,null,"　","　",0,0,null,6,"",{"$f":"IF(T10<>\"\",VLOOKUP(T10,【入力2】部員情報!$E$5:$Q$104,10,0),\"\")","v":""},{"$f":"IF(T10<>\"\",VLOOKUP(T10,【入力2】部員情報!$E$5:$Q$104,2,0),\"\")","v":""},{"$f":"IF(T10<>\"\",VLOOKUP(T10,【入力2】部員情報!$E$5:$Q$104,3,0),\"\")","v":""}]
[null,"",null,null,null,null,null,null,null,null,null,null,null,"　","　",0,0,null,7,"",{"$f":"IF(T11<>\"\",VLOOKUP(T11,【入力2】部員情報!$E$5:$Q$104,10,0),\"\")","v":""},{"$f":"IF(T11<>\"\",VLOOKUP(T11,【入力2】部員情報!$E$5:$Q$104,2,0),\"\")","v":""},{"$f":"IF(T11<>\"\",VLOOKUP(T11,【入力2】部員情報!$E$5:$Q$104,3,0),\"\")","v":""}]
[null,"",null,null,null,null,null,null,null,null,null,null,null,"　","　",0,0,null,8,"",{"$f":"IF(T12<>\"\",VLOOKUP(T12,【入力2】部員情報!$E$5:$Q$104,10,0),\"\")","v":""},{"$f":"IF(T12<>\"\",VLOOKUP(T12,【入力2】部員情報!$E$5:$Q$104,2,0),\"\")","v":""},{"$f":"IF(T12<>\"\",VLOOKUP(T12,【入力2】部員情報!$E$5:$Q$104,3,0),\"\")","v":""}]
[null,"",null,null,null,null,null,null,null,null,null,null,null,"　","　",0,0,null,9,"",{"$f":"IF(T13<>\"\",VLOOKUP(T13,【入力2】部員情報!$E$5:$Q$104,10,0),\"\")","v":""},{"$f":"IF(T13<>\"\",VLOOKUP(T13,【入力2】部員情報!$E$5:$Q$104,2,0),\"\")","v":""},{"$f":"IF(T13<>\"\",VLOOKUP(T13,【入力2】部員情報!$E$5:$Q$104,3,0),\"\")","v":""}]
[null,"",null,null,null,null,null,null,null,null,null,null,null,"　","　",0,0,null,10,"",{"$f":"IF(T14<>\"\",VLOOKUP(T14,【入力2】部員情報!$E$5:$Q$104,10,0),\"\")","v":""},{"$f":"IF(T14<>\"\",VLOOKUP(T14,【入力2】部員情報!$E$5:$Q$104,2,0),\"\")","v":""},{"$f":"IF(T14<>\"\",VLOOKUP(T14,【入力2】部員情報!$E$5:$Q$104,3,0),\"\")","v":""}]
[null,"",null,null,null,null,null,null,null,null,null,null,null,"　","　",0,0,null,11,"",{"$f":"IF(T15<>\"\",VLOOKUP(T15,【入力2】部員情報!$E$5:$Q$104,10,0),\"\")","v":""},{"$f":"IF(T15<>\"\",VLOOKUP(T15,【入力2】部員情報!$E$5:$Q$104,2,0),\"\")","v":""},{"$f":"IF(T15<>\"\",VLOOKUP(T15,【入力2】部員情報!$E$5:$Q$104,3,0),\"\")","v":""}]
[null,"",null,null,null,null,null,null,null,null,null,null,null,"　","　",0,0,null,12,"",{"$f":"IF(T16<>\"\",VLOOKUP(T16,【入力2】部員情報!$E$5:$Q$104,10,0),\"\")","v":""},{"$f":"IF(T16<>\"\",VLOOKUP(T16,【入力2】部員情報!$E$5:$Q$104,2,0),\"\")","v":""},{"$f":"IF(T16<>\"\",VLOOKUP(T16,【入力2】部員情報!$E$5:$Q$104,3,0),\"\")","v":""}]
[null,"",null,null,null,null,null,null,null,null,null,null,null,"　","　",0,0,null,13,"",{"$f":"IF(T17<>\"\",VLOOKUP(T17,【入力2】部員情報!$E$5:$Q$104,10,0),\"\")","v":""},{"$f":"IF(T17<>\"\",VLOOKUP(T17,【入力2】部員情報!$E$5:$Q$104,2,0),\"\")","v":""},{"$f":"IF(T17<>\"\",VLOOKUP(T17,【入力2】部員情報!$E$5:$Q$104,3,0),\"\")","v":""}]
[null,"",null,null,null,null,null,null,null,null,null,null,null,"　","　",0,0,null,14,"",{"$f":"IF(T18<>\"\",VLOOKUP(T18,【入力2】部員情報!$E$5:$Q$104,10,0),\"\")","v":""},{"$f":"IF(T18<>\"\",VLOOKUP(T18,【入力2】部員情報!$E$5:$Q$104,2,0),\"\")","v":""},{"$f":"IF(T18<>\"\",VLOOKUP(T18,【入力2】部員情報!$E$5:$Q$104,3,0),\"\")","v":""}]
[null,"",null,null,null,null,null,null,null,null,null,null,null,"　","　",0,0,null,15,"",{"$f":"IF(T19<>\"\",VLOOKUP(T19,【入力2】部員情報!$E$5:$Q$104,10,0),\"\")","v":""},{"$f":"IF(T19<>\"\",VLOOKUP(T19,【入力2】部員情報!$E$5:$Q$104,2,0),\"\")","v":""},{"$f":"IF(T19<>\"\",VLOOKUP(T19,【入力2】部員情報!$E$5:$Q$104,3,0),\"\")","v":""}]
[null,"",null,null,null,null,null,null,null,null,null,null,null,"　","　",0,0,null,16,"",{"$f":"IF(T20<>\"\",VLOOKUP(T20,【入力2】部員情報!$E$5:$Q$104,10,0),\"\")","v":""},{"$f":"IF(T20<>\"\",VLOOKUP(T20,【入力2】部員情報!$E$5:$Q$104,2,0),\"\")","v":""},{"$f":"IF(T20<>\"\",VLOOKUP(T20,【入力2】部員情報!$E$5:$Q$104,3,0),\"\")","v":""}]
[null,"",null,null,null,null,null,null,null,null,null,null,null,"　","　",0,0,null,17,"",{"$f":"IF(T21<>\"\",VLOOKUP(T21,【入力2】部員情報!$E$5:$Q$104,10,0),\"\")","v":""},{"$f":"IF(T21<>\"\",VLOOKUP(T21,【入力2】部員情報!$E$5:$Q$104,2,0),\"\")","v":""},{"$f":"IF(T21<>\"\",VLOOKUP(T21,【入力2】部員情報!$E$5:$Q$104,3,0),\"\")","v":""}]
[null,"",null,null,null,null,null,null,null,null,null,null,null,"　","　",0,0,null,18,"",{"$f":"IF(T22<>\"\",VLOOKUP(T22,【入力2】部員情報!$E$5:$Q$104,10,0),\"\")","v":""},{"$f":"IF(T22<>\"\",VLOOKUP(T22,【入力2】部員情報!$E$5:$Q$104,2,0),\"\")","v":""},{"$f":"IF(T22<>\"\",VLOOKUP(T22,【入力2】部員情報!$E$5:$Q$104,3,0),\"\")","v":""},"エントリー１８名は、ここまで"]
[null,"",null,null,null,null,null,null,null,null,null,null,null,"　","　",0,0,null,19,"",{"$f":"IF(T23<>\"\",VLOOKUP(T23,【入力2】部員情報!$E$5:$Q$104,10,0),\"\")","v":""},{"$f":"IF(T23<>\"\",VLOOKUP(T23,【入力2】部員情報!$E$5:$Q$104,2,0),\"\")","v":""},{"$f":"IF(T23<>\"\",VLOOKUP(T23,【入力2】部員情報!$E$5:$Q$104,3,0),\"\")","v":""}]
[null,"",null,null,null,null,null,null,null,null,null,null,null,"　","　",0,0,null,20,"",{"$f":"IF(T24<>\"\",VLOOKUP(T24,【入力2】部員情報!$E$5:$Q$104,10,0),\"\")","v":""},{"$f":"IF(T24<>\"\",VLOOKUP(T24,【入力2】部員情報!$E$5:$Q$104,2,0),\"\")","v":""},{"$f":"IF(T24<>\"\",VLOOKUP(T24,【入力2】部員情報!$E$5:$Q$104,3,0),\"\")","v":""}]
[null,"",null,null,null,null,null,null,null,null,null,null,null,"　","　",0,0,null,21,"",{"$f":"IF(T25<>\"\",VLOOKUP(T25,【入力2】部員情報!$E$5:$Q$104,10,0),\"\")","v":""},{"$f":"IF(T25<>\"\",VLOOKUP(T25,【入力2】部員情報!$E$5:$Q$104,2,0),\"\")","v":""},{"$f":"IF(T25<>\"\",VLOOKUP(T25,【入力2】部員情報!$E$5:$Q$104,3,0),\"\")","v":""}]
[null,"",null,null,null,null,null,null,null,null,null,null,null,"　","　",0,0,null,22,"",{"$f":"IF(T26<>\"\",VLOOKUP(T26,【入力2】部員情報!$E$5:$Q$104,10,0),\"\")","v":""},{"$f":"IF(T26<>\"\",VLOOKUP(T26,【入力2】部員情報!$E$5:$Q$104,2,0),\"\")","v":""},{"$f":"IF(T26<>\"\",VLOOKUP(T26,【入力2】部員情報!$E$5:$Q$104,3,0),\"\")","v":""}]
[null,"",null,null,null,null,null,null,null,null,null,null,null,"　","　",0,0,null,23,"",{"$f":"IF(T27<>\"\",VLOOKUP(T27,【入力2】部員情報!$E$5:$Q$104,10,0),\"\")","v":""},{"$f":"IF(T27<>\"\",VLOOKUP(T27,【入力2】部員情報!$E$5:$Q$104,2,0),\"\")","v":""},{"$f":"IF(T27<>\"\",VLOOKUP(T27,【入力2】部員情報!$E$5:$Q$104,3,0),\"\")","v":""}]
[null,"",null,null,null,null,null,null,null,null,null,null,null,"　","　",0,0,null,24,"",{"$f":"IF(T28<>\"\",VLOOKUP(T28,【入力2】部員情報!$E$5:$Q$104,10,0),\"\")","v":""},{"$f":"IF(T28<>\"\",VLOOKUP(T28,【入力2】部員情報!$E$5:$Q$104,2,0),\"\")","v":""},{"$f":"IF(T28<>\"\",VLOOKUP(T28,【入力2】部員情報!$E$5:$Q$104,3,0),\"\")","v":""}]
[null,"",null,null,null,null,null,null,null,null,null,null,null,"　","　",0,0,null,25,"",{"$f":"IF(T29<>\"\",VLOOKUP(T29,【入力2】部員情報!$E$5:$Q$104,10,0),\"\")","v":""},{"$f":"IF(T29<>\"\",VLOOKUP(T29,【入力2】部員情報!$E$5:$Q$104,2,0),\"\")","v":""},{"$f":"IF(T29<>\"\",VLOOKUP(T29,【入力2】部員情報!$E$5:$Q$104,3,0),\"\")","v":""}]
[null,"",null,null,null,null,null,null,null,null,null,null,null,"　","　",0,0,null,26,"",{"$f":"IF(T30<>\"\",VLOOKUP(T30,【入力2】部員情報!$E$5:$Q$104,10,0),\"\")","v":""},{"$f":"IF(T30<>\"\",VLOOKUP(T30,【入力2】部員情報!$E$5:$Q$104,2,0),\"\")","v":""},{"$f":"IF(T30<>\"\",VLOOKUP(T30,【入力2】部員情報!$E$5:$Q$104,3,0),\"\")","v":""}]
[null,"",null,null,null,null,null,null,null,null,null,null,null,"　","　",0,0,null,27,"",{"$f":"IF(T31<>\"\",VLOOKUP(T31,【入力2】部員情報!$E$5:$Q$104,10,0),\"\")","v":""},{"$f":"IF(T31<>\"\",VLOOKUP(T31,【入力2】部員情報!$E$5:$Q$104,2,0),\"\")","v":""},{"$f":"IF(T31<>\"\",VLOOKUP(T31,【入力2】部員情報!$E$5:$Q$104,3,0),\"\")","v":""}]
[null,"",null,null,null,null,null,null,null,null,null,null,null,"　","　",0,0,null,28,"",{"$f":"IF(T32<>\"\",VLOOKUP(T32,【入力2】部員情報!$E$5:$Q$104,10,0),\"\")","v":""},{"$f":"IF(T32<>\"\",VLOOKUP(T32,【入力2】部員情報!$E$5:$Q$104,2,0),\"\")","v":""},{"$f":"IF(T32<>\"\",VLOOKUP(T32,【入力2】部員情報!$E$5:$Q$104,3,0),\"\")","v":""}]
[null,"",null,null,null,null,null,null,null,null,null,null,null,"　","　",0,0,null,29,"",{"$f":"IF(T33<>\"\",VLOOKUP(T33,【入力2】部員情報!$E$5:$Q$104,10,0),\"\")","v":""},{"$f":"IF(T33<>\"\",VLOOKUP(T33,【入力2】部員情報!$E$5:$Q$104,2,0),\"\")","v":""},{"$f":"IF(T33<>\"\",VLOOKUP(T33,【入力2】部員情報!$E$5:$Q$104,3,0),\"\")","v":""}]
[null,"",null,null,null,null,null,null,null,null,null,null,null,"　","　",0,0,null,30,"",{"$f":"IF(T34<>\"\",VLOOKUP(T34,【入力2】部員情報!$E$5:$Q$104,10,0),\"\")","v":""},{"$f":"IF(T34<>\"\",VLOOKUP(T34,【入力2】部員情報!$E$5:$Q$104,2,0),\"\")","v":""},{"$f":"IF(T34<>\"\",VLOOKUP(T34,【入力2】部員情報!$E$5:$Q$104,3,0),\"\")","v":""}]
[null,"",null,null,null,null,null,null,null,null,null,null,null,"　","　",0,0]
[null,"",null,null,null,null,null,null,null,null,null,null,null,"　","　",0,0]
[null,"",null,null,null,null,null,null,null,null,null,null,null,"　","　",0,0]
[null,"",null,null,null,null,null,null,null,null,null,null,null,"　","　",0,0]
[null,"",null,null,null,null,null,null,null,null,null,null,null,"　","　",0,0]
[null,"",null,null,null,null,null,null,null,null,null,null,null,"　","　",0,0]
[null,"",null,null,null,null,null,null,null,null,null,null,null,"　","　",0,0]
[null,"",null,null,null,null,null,null,null,null,null,null,null,"　","　",0,0]
[null,"",null,null,null,null,null,null,null,null,null,null,null,"　","　",0,0]
[null,"",null,null,null,null,null,null,null,null,null,null,null,"　","　",0,0]
[null,"",null,null,null,null,null,null,null,null,null,null,null,"　","　",0,0]
[null,"",null,null,null,null,null,null,null,null,null,null,null,"　","　",0,0]
[null,"",null,null,null,null,null,null,null,null,null,null,null,"　","　",0,0]
[null,"",null,null,null,null,null,null,null,null,null,null,null,"　","　",0,0]
[null,"",null,null,null,null,null,null,null,null,null,null,null,"　","　",0,0]
[null,"",null,null,null,null,null,null,null,null,null,null,null,"　","　",0,0]
[null,"",null,null,null,null,null,null,null,null,null,null,null,"　","　",0,0]
[null,"",null,null,null,null,null,null,null,null,null,null,null,"　","　",0,0]
[null,"",null,null,null,null,null,null,null,null,null,null,null,"　","　",0,0]
[null,"",null,null,null,null,null,null,null,null,null,null,null,"　","　",0,0]
[null,"",null,null,null,null,null,null,null,null,null,null,null,"　","　",0,0]
[null,"",null,null,null,null,null,null,null,null,null,null,null,"　","　",0,0]
[null,"",null,null,null,null,null,null,null,null,null,null,null,"　","　",0,0]
[null,"",null,null,null,null,null,null,null,null,null,null,null,"　","　",0,0]
[null,"",null,null,null,null,null,null,null,null,null,null,null,"　","　",0,0]
[null,"",null,null,null,null,null,null,null,null,null,null,null,"　","　",0,0]
[null,"",null,null,null,null,null,null,null,null,null,null,null,"　","　",0,0]
[null,"",null,null,null,null,null,null,null,null,null,null,null,"　","　",0,0]
[null,"",null,null,null,null,null,null,null,null,null,null,null,"　","　",0,0]
[null,"",null,null,null,null,null,null,null,null,null,null,null,"　","　",0,0]
[null,"",null,null,null,null,null,null,null,null,null,null,null,"　","　",0,0]
[null,"",null,null,null,null,null,null,null,null,null,null,null,"　","　",{"$f":"C66","v":0},{"$f":"G66","v":0}]
[null,"",null,null,null,null,null,null,null,null,null,null,null,"　","　",0,0]
[null,"",null,null,null,null,null,null,null,null,null,null,null,"　","　",0,0]
[null,"",null,null,null,null,null,null,null,null,null,null,null,"　","　",0,0]
[null,{"$f":"IF(C70<>\"\",ROW(B66),\"\")","v":""},null,null,null,null,null,null,null,null,null,null,null,{"$f":"H70&\"　\"&I70","v":"　"},{"$f":"J70&\"　\"&K70","v":"　"},0,0]
[null,"",null,null,null,null,null,null,null,null,null,null,null,"　","　",0,0]
[null,"",null,null,null,null,null,null,null,null,null,null,null,"　","　",0,0]
[null,"",null,null,null,null,null,null,null,null,null,null,null,"　","　",0,0]
[null,"",null,null,null,null,null,null,null,null,null,null,null,"　","　",0,0]
[null,"",null,null,null,null,null,null,null,null,null,null,null,"　","　",0,0]
[null,"",null,null,null,null,null,null,null,null,null,null,null,"　","　",0,0]
[null,"",null,null,null,null,null,null,null,null,null,null,null,"　","　",0,0]
[null,"",null,null,null,null,null,null,null,null,null,null,null,"　","　",0,0]
[null,"",null,null,null,null,null,null,null,null,null,null,null,"　","　",0,0]
[null,"",null,null,null,null,null,null,null,null,null,null,null,"　","　",0,0]
[null,"",null,null,null,null,null,null,null,null,null,null,null,"　","　",0,0]
[null,"",null,null,null,null,null,null,null,null,null,null,null,"　","　",0,0]
[null,"",null,null,null,null,null,null,null,null,null,null,null,"　","　",0,0]
[null,"",null,null,null,null,null,null,null,null,null,null,null,"　","　",0,0]
[null,"",null,null,null,null,null,null,null,null,null,null,null,"　","　",0,0]
[null,"",null,null,null,null,null,null,null,null,null,null,null,"　","　",0,0]
[null,"",null,null,null,null,null,null,null,null,null,null,null,"　","　",0,0]
[null,"",null,null,null,null,null,null,null,null,null,null,null,"　","　",0,0]
[null,"",null,null,null,null,null,null,null,null,null,null,null,"　","　",0,0]
[null,"",null,null,null,null,null,null,null,null,null,null,null,"　","　",0,0]
[null,"",null,null,null,null,null,null,null,null,null,null,null,"　","　",0,0]
[null,"",null,null,null,null,null,null,null,null,null,null,null,"　","　",0,0]
[null,"",null,null,null,null,null,null,null,null,null,null,null,"　","　",0,0]
[null,"",null,null,null,null,null,null,null,null,null,null,null,"　","　",0,0]
[null,"",null,null,null,null,null,null,null,null,null,null,null,"　","　",0,0]
[null,"",null,null,null,null,null,null,null,null,null,null,null,"　","　",0,0]
[null,"",null,null,null,null,null,null,null,null,null,null,null,"　","　",0,0]
[null,"",null,null,null,null,null,null,null,null,null,null,null,"　","　",0,0]
[null,"",null,null,null,null,null,null,null,null,null,null,null,"　","　",0,0]
[null,"",null,null,null,null,null,null,null,null,null,null,null,"　","　",0,0]
[null,"",null,null,null,null,null,null,null,null,null,null,null,"　","　",0,0]
[null,"",null,null,null,null,null,null,null,null,null,null,null,"　","　",0,0]
[null,"",null,null,null,null,null,null,null,null,null,null,null,"　","　",0,0]
[null,"",null,null,null,null,null,null,null,null,null,null,null,"　","　",0,0]

{"sheet":"【申込】高総体","index":4,"n_rows":40,"n_cols":27,"rows_kept":40,"cut":false,"hidden":false,"merged":[[39,14,39,21],[39,4,39,13],[17,19,17,22],[18,19,18,22],[19,19,19,22],[14,16,14,18],[18,16,18,18],[14,19,14,23],[17,16,17,18],[16,13,16,15],[17,13,17,15],[18,13,18,15],[19,13,19,15],[16,16,16,18],[16,19,16,22],[20,19,20,22],[30,16,30,18],[31,16,31,18],[32,16,32,18],[25,16,25,18],[23,16,23,18],[34,8,35,22],[28,16,28,18],[21,19,21,22],[38,0,38,1],[26,16,26,18],[27,16,27,18],[31,19,31,22],[25,19,25,22],[26,19,26,22],[27,19,27,22],[28,19,28,22],[30,19,30,22],[29,19,29,22],[32,19,32,22],[37,0,37,23],[29,13,29,15],[30,13,30,15],[31,13,31,15],[34,0,34,7],[25,1,25,6],[26,1,26,6],[27,1,27,6],[28,1,28,6],[29,1,29,6],[30,1,30,6],[31,1,31,6],[32,7,32,9],[14,1,14,6],[13,3,13,9],[11,3,12,9],[10,3,10,9],[8,3,9,9],[15,7,15,9],[8,13,9,23],[11,13,12,23],[9,10,9,12],[8,10,8,12],[10,10,10,12],[15,16,15,18],[15,19,15,22],[13,13,13,23],[13,10,13,12],[11,10,11,12],[12,10,12,12],[14,10,14,12],[13,0,13,2],[10,0,10,2],[15,10,15,12],[15,1,15,6],[8,0,8,2],[14,13,14,15],[17,1,17,6],[18,1,18,6],[19,1,19,6],[20,1,20,6],[21,1,21,6],[22,1,22,6],[23,1,23,6],[24,1,24,6],[0,0,0,23],[1,0,1,23],[2,0,2,23],[5,12,6,23],[5,0,6,1],[4,0,4,1],[7,13,7,17],[7,19,7,23],[4,13,4,16],[5,2,6,8],[5,9,6,9],[4,2,4,9],[7,0,7,3],[7,4,7,9],[4,10,7,11],[10,13,10,23],[20,7,20,9],[31,7,31,9],[21,16,21,18],[24,16,24,18],[9,0,9,2],[11,0,11,2],[12,0,12,2],[21,7,21,9],[32,1,32,6],[16,7,16,9],[17,7,17,9],[18,7,18,9],[19,7,19,9],[14,7,14,9],[23,7,23,9],[24,7,24,9],[25,7,25,9],[22,7,22,9],[26,7,26,9],[27,7,27,9],[28,7,28,9],[29,7,29,9],[30,7,30,9],[16,1,16,6],[14,25,14,26],[26,10,26,12],[27,10,27,12],[28,10,28,12],[29,10,29,12],[30,10,30,12],[31,10,31,12],[24,13,24,15],[25,13,25,15],[26,13,26,15],[27,13,27,15],[28,13,28,15],[16,10,16,12],[17,10,17,12],[18,10,18,12],[19,10,19,12],[15,13,15,15],[19,16,19,18],[20,16,20,18],[22,16,22,18],[29,16,29,18],[20,10,20,12],[21,10,21,12],[22,10,22,12],[22,19,22,22],[23,19,23,22],[24,19,24,22],[22,13,22,15],[23,13,23,15],[32,13,32,15],[32,10,32,12],[20,13,20,15],[21,13,21,15],[23,10,23,12],[24,10,24,12],[25,10,25,12]]}
[{"$f":"【入力1】チーム情報!$B$2-1951","v":72}]
["バスケットボール競技"]
["【　参加申込書　】"]
[null,null,null,null,null,null,null,null,null,null,null,null,null,null,null,null,null,null,null,null,null,null,null,{"$f":"【入力1】チーム情報!$H$6","v":"ver.2024_1a"}]
["ﾌﾘｶﾞﾅ",null,{"$f":"IFERROR(VLOOKUP(【入力1】チーム情報!$B$5,学校番号!$C$4:$M$173,10,1)&\" \"&VLOOKUP(【入力1】チーム情報!$B$5,学校番号!$C$4:$M$173,11,1),\"\")","v":""},null,null,null,null,null,null,null,"学校　　所在地",null,"〒",{"$f":"IFERROR(VLOOKUP(【入力1】チーム情報!$B$5,学校番号!$C$4:$M$173,5,1),\"\")","v":""}]
["学校名",null,{"$f":"IFERROR(VLOOKUP(【入力1】チーム情報!$B$5,学校番号!$C$4:$M$173,2,1),\"\")","v":""},null,null,null,null,null,null,{"$f":"IFERROR(VLOOKUP(【入力1】チーム情報!$B$5,学校番号!$C$4:$M$173,3,1)&\"子\",\"\")","v":""},null,null,{"$f":"IFERROR(VLOOKUP(【入力1】チーム情報!$B$5,学校番号!$C$4:$M$173,6,1),\"\")","v":""},null,null,null,null,null,null,null,null,null,null,null,null,{"$f":"VLOOKUP(【入力1】チーム情報!B5,学校番号!$C$4:$N$173,9,1)","v":{"$error":"#N/A"}}]
[]
["チーム登録番号",null,null,null,{"$f":"IFERROR(VLOOKUP(【入力1】チーム情報!$B$5,学校番号!$C$4:$M$173,4,1),\"\")","v":""},null,null,null,null,null,null,null,"TEL",{"$f":"IFERROR(VLOOKUP(【入力1】チーム情報!$B$5,学校番号!$C$4:$M$173,7,1),\"\")","v":""},null,null,null,null,"FAX",{"$f":"IFERROR(VLOOKUP(【入力1】チーム情報!$B$5,学校番号!$C$4:$M$173,8,1),\"\")","v":""}]
["監督",null,null,{"$f":"【入力1】チーム情報!$E$8","v":0},null,null,null,null,null,null,"コーチ",null,null,{"$f":"【入力1】チーム情報!$E$9","v":0}]
["氏名",null,null,null,null,null,null,null,null,null,"氏名"]
["登録番号",null,null,{"$f":"【入力1】チーム情報!$D$8","v":0},null,null,null,null,null,null,"登録番号",null,null,{"$f":"【入力1】チーム情報!$D$9","v":0}]
["Ａ・コーチ",null,null,{"$f":"【入力1】チーム情報!$E$10","v":0},null,null,null,null,null,null,"ﾏﾈｰｼﾞｬｰ",null,null,{"$f":"【入力1】チーム情報!$E$11&\"  \"&【入力1】チーム情報!$E$12&\"  \"&【入力1】チーム情報!$E$13","v":"    "}]
["氏名",null,null,null,null,null,null,null,null,null,"氏名"]
["登録番号",null,null,{"$f":"【入力1】チーム情報!$D$10","v":0},null,null,null,null,null,null,"登録番号",null,null,{"$f":"【入力1】チーム情報!$D$11&\"  \"&【入力1】チーム情報!$D$12&\"  \"&【入力1】チーム情報!$D$13","v":"    "}]
["№","競技者登録番号",null,null,null,null,null,"競技者氏名",null,null,"番号",null,null,"学年",null,null,"身長（㎝）",null,null,"出身中学校",null,null,null,null,null,"※名票（背番号順）"]
[1,{"$f":"【入力1】チーム情報!Q16","v":""},null,null,null,null,null,{"$f":"【入力1】チーム情報!M16","v":""},null,null,{"$f":"【入力1】チーム情報!L16","v":""},null,null,{"$f":"【入力1】チーム情報!O16","v":""},null,null,{"$f":"【入力1】チーム情報!N16","v":""},null,null,{"$f":"【入力1】チーム情報!P16","v":""},null,null,null,{"$f":"IF(T16<>\"\",\"中\",\"\")","v":""},null,{"$f":"【入力1】チーム情報!L16","v":""},{"$f":"【入力1】チーム情報!M16","v":""}]
[2,{"$f":"【入力1】チーム情報!Q17","v":""},null,null,null,null,null,{"$f":"【入力1】チーム情報!M17","v":""},null,null,{"$f":"【入力1】チーム情報!L17","v":""},null,null,{"$f":"【入力1】チーム情報!O17","v":""},null,null,{"$f":"【入力1】チーム情報!N17","v":""},null,null,{"$f":"【入力1】チーム情報!P17","v":""},null,null,null,{"$f":"IF(T17<>\"\",\"中\",\"\")","v":""},null,{"$f":"【入力1】チーム情報!L17","v":""},{"$f":"【入力1】チーム情報!M17","v":""}]
[3,{"$f":"【入力1】チーム情報!Q18","v":""},null,null,null,null,null,{"$f":"【入力1】チーム情報!M18","v":""},null,null,{"$f":"【入力1】チーム情報!L18","v":""},null,null,{"$f":"【入力1】チーム情報!O18","v":""},null,null,{"$f":"【入力1】チーム情報!N18","v":""},null,null,{"$f":"【入力1】チーム情報!P18","v":""},null,null,null,"",null,{"$f":"【入力1】チーム情報!L18","v":""},{"$f":"【入力1】チーム情報!M18","v":""}]
[4,{"$f":"【入力1】チーム情報!Q19","v":""},null,null,null,null,null,{"$f":"【入力1】チーム情報!M19","v":""},null,null,{"$f":"【入力1】チーム情報!L19","v":""},null,null,{"$f":"【入力1】チーム情報!O19","v":""},null,null,{"$f":"【入力1】チーム情報!N19","v":""},null,null,{"$f":"【入力1】チーム情報!P19","v":""},null,null,null,"",null,{"$f":"【入力1】チーム情報!L19","v":""},{"$f":"【入力1】チーム情報!M19","v":""}]
[5,{"$f":"【入力1】チーム情報!Q20","v":""},null,null,null,null,null,{"$f":"【入力1】チーム情報!M20","v":""},null,null,{"$f":"【入力1】チーム情報!L20","v":""},null,null,{"$f":"【入力1】チーム情報!O20","v":""},null,null,{"$f":"【入力1】チーム情報!N20","v":""},null,null,{"$f":"【入力1】チーム情報!P20","v":""},null,null,null,"",null,{"$f":"【入力1】チーム情報!L20","v":""},{"$f":"【入力1】チーム情報!M20","v":""}]
[6,{"$f":"【入力1】チーム情報!Q21","v":""},null,null,null,null,null,{"$f":"【入力1】チーム情報!M21","v":""},null,null,{"$f":"【入力1】チーム情報!L21","v":""},null,null,{"$f":"【入力1】チーム情報!O21","v":""},null,null,{"$f":"【入力1】チーム情報!N21","v":""},null,null,{"$f":"【入力1】チーム情報!P21","v":""},null,null,null,"",null,{"$f":"【入力1】チーム情報!L21","v":""},{"$f":"【入力1】チーム情報!M21","v":""}]
[7,{"$f":"【入力1】チーム情報!Q22","v":""},null,null,null,null,null,{"$f":"【入力1】チーム情報!M22","v":""},null,null,{"$f":"【入力1】チーム情報!L22","v":""},null,null,{"$f":"【入力1】チーム情報!O22","v":""},null,null,{"$f":"【入力1】チーム情報!N22","v":""},null,null,{"$f":"【入力1】チーム情報!P22","v":""},null,null,null,"",null,{"$f":"【入力1】チーム情報!L22","v":""},{"$f":"【入力1】チーム情報!M22","v":""}]
[8,{"$f":"【入力1】チーム情報!Q23","v":""},null,null,null,null,null,{"$f":"【入力1】チーム情報!M23","v":""},null,null,{"$f":"【入力1】チーム情報!L23","v":""},null,null,{"$f":"【入力1】チーム情報!O23","v":""},null,null,{"$f":"【入力1】チーム情報!N23","v":""},null,null,{"$f":"【入力1】チーム情報!P23","v":""},null,null,null,"",null,{"$f":"【入力1】チーム情報!L23","v":""},{"$f":"【入力1】チーム情報!M23","v":""}]
[9,{"$f":"【入力1】チーム情報!Q24","v":""},null,null,null,null,null,{"$f":"【入力1】チーム情報!M24","v":""},null,null,{"$f":"【入力1】チーム情報!L24","v":""},null,null,{"$f":"【入力1】チーム情報!O24","v":""},null,null,{"$f":"【入力1】チーム情報!N24","v":""},null,null,{"$f":"【入力1】チーム情報!P24","v":""},null,null,null,"",null,{"$f":"【入力1】チーム情報!L24","v":""},{"$f":"【入力1】チーム情報!M24","v":""}]
[10,{"$f":"【入力1】チーム情報!Q25","v":""},null,null,null,null,null,{"$f":"【入力1】チーム情報!M25","v":""},null,null,{"$f":"【入力1】チーム情報!L25","v":""},null,null,{"$f":"【入力1】チーム情報!O25","v":""},null,null,{"$f":"【入力1】チーム情報!N25","v":""},null,null,{"$f":"【入力1】チーム情報!P25","v":""},null,null,null,"",null,{"$f":"【入力1】チーム情報!L25","v":""},{"$f":"【入力1】チーム情報!M25","v":""}]
[11,{"$f":"【入力1】チーム情報!Q26","v":""},null,null,null,null,null,{"$f":"【入力1】チーム情報!M26","v":""},null,null,{"$f":"【入力1】チーム情報!L26","v":""},null,null,{"$f":"【入力1】チーム情報!O26","v":""},null,null,{"$f":"【入力1】チーム情報!N26","v":""},null,null,{"$f":"【入力1】チーム情報!P26","v":""},null,null,null,"",null,{"$f":"【入力1】チーム情報!L26","v":""},{"$f":"【入力1】チーム情報!M26","v":""}]
[12,{"$f":"【入力1】チーム情報!Q27","v":""},null,null,null,null,null,{"$f":"【入力1】チーム情報!M27","v":""},null,null,{"$f":"【入力1】チーム情報!L27","v":""},null,null,{"$f":"【入力1】チーム情報!O27","v":""},null,null,{"$f":"【入力1】チーム情報!N27","v":""},null,null,{"$f":"【入力1】チーム情報!P27","v":""},null,null,null,"",null,{"$f":"【入力1】チーム情報!L27","v":""},{"$f":"【入力1】チーム情報!M27","v":""}]
[13,{"$f":"【入力1】チーム情報!Q28","v":""},null,null,null,null,null,{"$f":"【入力1】チーム情報!M28","v":""},null,null,{"$f":"【入力1】チーム情報!L28","v":""},null,null,{"$f":"【入力1】チーム情報!O28","v":""},null,null,{"$f":"【入力1】チーム情報!N28","v":""},null,null,{"$f":"【入力1】チーム情報!P28","v":""},null,null,null,"",null,{"$f":"【入力1】チーム情報!L28","v":""},{"$f":"【入力1】チーム情報!M28","v":""}]
[14,{"$f":"【入力1】チーム情報!Q29","v":""},null,null,null,null,null,{"$f":"【入力1】チーム情報!M29","v":""},null,null,{"$f":"【入力1】チーム情報!L29","v":""},null,null,{"$f":"【入力1】チーム情報!O29","v":""},null,null,{"$f":"【入力1】チーム情報!N29","v":""},null,null,{"$f":"【入力1】チーム情報!P29","v":""},null,null,null,"",null,{"$f":"【入力1】チーム情報!L29","v":""},{"$f":"【入力1】チーム情報!M29","v":""}]
[15,{"$f":"【入力1】チーム情報!Q30","v":""},null,null,null,null,null,{"$f":"【入力1】チーム情報!M30","v":""},null,null,{"$f":"【入力1】チーム情報!L30","v":""},null,null,{"$f":"【入力1】チーム情報!O30","v":""},null,null,{"$f":"【入力1】チーム情報!N30","v":""},null,null,{"$f":"【入力1】チーム情報!P30","v":""},null,null,null,"",null,{"$f":"【入力1】チーム情報!L30","v":""},{"$f":"【入力1】チーム情報!M30","v":""}]
[16,{"$f":"【入力1】チーム情報!Q31","v":""},null,null,null,null,null,{"$f":"【入力1】チーム情報!M31","v":""},null,null,{"$f":"【入力1】チーム情報!L31","v":""},null,null,{"$f":"【入力1】チーム情報!O31","v":""},null,null,{"$f":"【入力1】チーム情報!N31","v":""},null,null,{"$f":"【入力1】チーム情報!P31","v":""},null,null,null,"",null,{"$f":"【入力1】チーム情報!L31","v":""},{"$f":"【入力1】チーム情報!M31","v":""}]
[17,{"$f":"【入力1】チーム情報!Q32","v":""},null,null,null,null,null,{"$f":"【入力1】チーム情報!M32","v":""},null,null,{"$f":"【入力1】チーム情報!L32","v":""},null,null,{"$f":"【入力1】チーム情報!O32","v":""},null,null,{"$f":"【入力1】チーム情報!N32","v":""},null,null,{"$f":"【入力1】チーム情報!P32","v":""},null,null,null,"",null,{"$f":"【入力1】チーム情報!L32","v":""},{"$f":"【入力1】チーム情報!M32","v":""}]
[18,{"$f":"【入力1】チーム情報!Q33","v":""},null,null,null,null,null,{"$f":"【入力1】チーム情報!M33","v":""},null,null,{"$f":"【入力1】チーム情報!L33","v":""},null,null,{"$f":"【入力1】チーム情報!O33","v":""},null,null,{"$f":"【入力1】チーム情報!N33","v":""},null,null,{"$f":"【入力1】チーム情報!P33","v":""},null,null,null,"",null,{"$f":"【入力1】チーム情報!L33","v":""},{"$f":"【入力1】チーム情報!M33","v":""}]
[]
["総合体育大会の目標"]
[]
[]
["◇上記の者は本校在校生徒で標記大会に出場することを認め，参加申し込みをいたします。"]
[{"$f":"【入力1】チーム情報!$H$2","v":45356},null,null,"年",null,"月",null,"日"]
[null,null,null,null,{"$f":"C6","v":""},null,null,null,null,null,null,null,null,null,{"$f":"【入力1】チーム情報!$H$5","v":0},null,null,null,null,null,null,null,"印"]

{"sheet":"【申込】選手権","index":5,"n_rows":38,"n_cols":27,"rows_kept":38,"cut":false,"hidden":false,"merged":[[0,0,0,23],[1,0,1,23],[2,0,2,23],[4,0,4,1],[4,2,4,9],[4,10,7,11],[4,13,4,16],[5,0,6,1],[5,2,6,8],[5,9,6,9],[5,12,6,23],[7,0,7,3],[7,4,7,9],[7,13,7,17],[7,19,7,23],[8,0,8,2],[8,3,9,9],[8,10,8,12],[8,13,9,23],[9,0,9,2],[9,10,9,12],[10,0,10,2],[10,3,10,9],[10,10,10,12],[10,13,10,23],[11,0,11,2],[11,3,12,9],[11,10,11,12],[11,13,12,23],[12,0,12,2],[12,10,12,12],[13,0,13,2],[13,3,13,9],[13,10,13,12],[13,13,13,23],[16,1,16,6],[16,7,16,9],[16,10,16,12],[16,13,16,15],[16,16,16,18],[16,19,16,22],[17,1,17,6],[17,7,17,9],[17,10,17,12],[17,13,17,15],[17,16,17,18],[14,1,14,6],[14,7,14,9],[14,10,14,12],[14,13,14,15],[14,16,14,18],[14,19,14,23],[15,1,15,6],[15,7,15,9],[15,10,15,12],[15,13,15,15],[15,16,15,18],[15,19,15,22],[19,1,19,6],[19,7,19,9],[19,10,19,12],[19,13,19,15],[19,16,19,18],[19,19,19,22],[17,19,17,22],[18,1,18,6],[18,7,18,9],[18,10,18,12],[18,13,18,15],[18,16,18,18],[18,19,18,22],[21,1,21,6],[21,7,21,9],[21,10,21,12],[21,13,21,15],[21,16,21,18],[21,19,21,22],[20,1,20,6],[20,7,20,9],[20,10,20,12],[20,13,20,15],[20,16,20,18],[20,19,20,22],[23,1,23,6],[23,7,23,9],[23,10,23,12],[23,13,23,15],[23,16,23,18],[23,19,23,22],[22,1,22,6],[22,7,22,9],[22,10,22,12],[22,13,22,15],[22,16,22,18],[22,19,22,22],[25,1,25,6],[25,7,25,9],[25,10,25,12],[25,13,25,15],[25,16,25,18],[25,19,25,22],[24,1,24,6],[24,7,24,9],[24,10,24,12],[24,13,24,15],[24,16,24,18],[24,19,24,22],[27,1,27,6],[27,7,27,9],[27,10,27,12],[27,13,27,15],[27,16,27,18],[27,19,27,22],[26,1,26,6],[26,7,26,9],[26,10,26,12],[26,13,26,15],[26,16,26,18],[26,19,26,22],[29,7,29,9],[29,10,29,12],[29,13,29,15],[29,16,29,18],[29,19,29,22],[28,1,28,6],[28,7,28,9],[28,10,28,12],[28,13,28,15],[28,16,28,18],[28,19,28,22],[14,25,14,26],[35,0,35,23],[36,0,36,1],[37,4,37,13],[37,14,37,21],[32,1,32,6],[32,7,32,9],[32,10,32,12],[32,13,32,15],[32,16,32,18],[32,19,32,22],[31,1,31,6],[31,7,31,9],[31,10,31,12],[31,13,31,15],[31,16,31,18],[31,19,31,22],[30,1,30,6],[30,7,30,9],[30,10,30,12],[30,13,30,15],[30,16,30,18],[30,19,30,22],[29,1,29,6]]}
[{"$f":"【入力1】チーム情報!$B$2-1978","v":45}]
[{"$f":"【入力1】チーム情報!$B$2-1947","v":76}]
["【　参加申込書　】"]
[null,null,null,null,null,null,null,null,null,null,null,null,null,null,null,null,null,null,null,null,null,null,null,{"$f":"【入力1】チーム情報!$H$6","v":"ver.2024_1a"}]
["ﾌﾘｶﾞﾅ",null,{"$f":"IFERROR(VLOOKUP(【入力1】チーム情報!$B$5,学校番号!$C$4:$M$173,10,1)&\" \"&VLOOKUP(【入力1】チーム情報!$B$5,学校番号!$C$4:$M$173,11,1),\"\")","v":""},null,null,null,null,null,null,null,"学校　　所在地",null,"〒",{"$f":"IFERROR(VLOOKUP(【入力1】チーム情報!$B$5,学校番号!$C$4:$M$173,5,1),\"\")","v":""}]
["学校名",null,{"$f":"IFERROR(VLOOKUP(【入力1】チーム情報!$B$5,学校番号!$C$4:$M$173,2,1),\"\")","v":""},null,null,null,null,null,null,{"$f":"IFERROR(VLOOKUP(【入力1】チーム情報!$B$5,学校番号!$C$4:$M$173,3,1)&\"子\",\"\")","v":""},null,null,{"$f":"IFERROR(VLOOKUP(【入力1】チーム情報!$B$5,学校番号!$C$4:$M$173,6,1),\"\")","v":""},null,null,null,null,null,null,null,null,null,null,null,null,{"$f":"VLOOKUP(【入力1】チーム情報!B5,学校番号!$C$4:$N$173,9,1)","v":{"$error":"#N/A"}}]
[]
["チーム登録番号",null,null,null,{"$f":"IFERROR(VLOOKUP(【入力1】チーム情報!$B$5,学校番号!$C$4:$M$173,4,1),\"\")","v":""},null,null,null,null,null,null,null,"TEL",{"$f":"IFERROR(VLOOKUP(【入力1】チーム情報!$B$5,学校番号!$C$4:$M$173,7,1),\"\")","v":""},null,null,null,null,"FAX",{"$f":"IFERROR(VLOOKUP(【入力1】チーム情報!$B$5,学校番号!$C$4:$M$173,8,1),\"\")","v":""}]
["監督",null,null,{"$f":"【入力1】チーム情報!$E$8","v":0},null,null,null,null,null,null,"コーチ",null,null,{"$f":"【入力1】チーム情報!$E$9","v":0}]
["氏名",null,null,null,null,null,null,null,null,null,"氏名"]
["登録番号",null,null,{"$f":"【入力1】チーム情報!$D$8","v":0},null,null,null,null,null,null,"登録番号",null,null,{"$f":"【入力1】チーム情報!$D$9","v":0}]
["Ａ・コーチ",null,null,{"$f":"【入力1】チーム情報!$E$10","v":0},null,null,null,null,null,null,"ﾏﾈｰｼﾞｬｰ",null,null,{"$f":"【入力1】チーム情報!$E$11&\"  \"&【入力1】チーム情報!$E$12&\"  \"&【入力1】チーム情報!$E$13","v":"    "}]
["氏名",null,null,null,null,null,null,null,null,null,"氏名"]
["登録番号",null,null,{"$f":"【入力1】チーム情報!$D$10","v":0},null,null,null,null,null,null,"登録番号",null,null,{"$f":"【入力1】チーム情報!$D$11&\"  \"&【入力1】チーム情報!$D$12&\"  \"&【入力1】チーム情報!$D$13","v":"    "}]
["№","競技者登録番号",null,null,null,null,null,"競技者氏名",null,null,"番号",null,null,"学年",null,null,"身長（㎝）",null,null,"出身中学校",null,null,null,null,null,"※名票（背番号順）"]
[1,{"$f":"【入力1】チーム情報!Q16","v":""},null,null,null,null,null,{"$f":"【入力1】チーム情報!M16","v":""},null,null,{"$f":"【入力1】チーム情報!L16","v":""},null,null,{"$f":"【入力1】チーム情報!O16","v":""},null,null,{"$f":"【入力1】チーム情報!N16","v":""},null,null,{"$f":"【入力1】チーム情報!P16","v":""},null,null,null,{"$f":"IF(T16<>\"\",\"中\",\"\")","v":""},null,{"$f":"【入力1】チーム情報!L16","v":""},{"$f":"【入力1】チーム情報!M16","v":""}]
[2,{"$f":"【入力1】チーム情報!Q17","v":""},null,null,null,null,null,{"$f":"【入力1】チーム情報!M17","v":""},null,null,{"$f":"【入力1】チーム情報!L17","v":""},null,null,{"$f":"【入力1】チーム情報!O17","v":""},null,null,{"$f":"【入力1】チーム情報!N17","v":""},null,null,{"$f":"【入力1】チーム情報!P17","v":""},null,null,null,{"$f":"IF(T17<>\"\",\"中\",\"\")","v":""},null,{"$f":"【入力1】チーム情報!L17","v":""},{"$f":"【入力1】チーム情報!M17","v":""}]
[3,{"$f":"【入力1】チーム情報!Q18","v":""},null,null,null,null,null,{"$f":"【入力1】チーム情報!M18","v":""},null,null,{"$f":"【入力1】チーム情報!L18","v":""},null,null,{"$f":"【入力1】チーム情報!O18","v":""},null,null,{"$f":"【入力1】チーム情報!N18","v":""},null,null,{"$f":"【入力1】チーム情報!P18","v":""},null,null,null,"",null,{"$f":"【入力1】チーム情報!L18","v":""},{"$f":"【入力1】チーム情報!M18","v":""}]
[4,{"$f":"【入力1】チーム情報!Q19","v":""},null,null,null,null,null,{"$f":"【入力1】チーム情報!M19","v":""},null,null,{"$f":"【入力1】チーム情報!L19","v":""},null,null,{"$f":"【入力1】チーム情報!O19","v":""},null,null,{"$f":"【入力1】チーム情報!N19","v":""},null,null,{"$f":"【入力1】チーム情報!P19","v":""},null,null,null,"",null,{"$f":"【入力1】チーム情報!L19","v":""},{"$f":"【入力1】チーム情報!M19","v":""}]
[5,{"$f":"【入力1】チーム情報!Q20","v":""},null,null,null,null,null,{"$f":"【入力1】チーム情報!M20","v":""},null,null,{"$f":"【入力1】チーム情報!L20","v":""},null,null,{"$f":"【入力1】チーム情報!O20","v":""},null,null,{"$f":"【入力1】チーム情報!N20","v":""},null,null,{"$f":"【入力1】チーム情報!P20","v":""},null,null,null,"",null,{"$f":"【入力1】チーム情報!L20","v":""},{"$f":"【入力1】チーム情報!M20","v":""}]
[6,{"$f":"【入力1】チーム情報!Q21","v":""},null,null,null,null,null,{"$f":"【入力1】チーム情報!M21","v":""},null,null,{"$f":"【入力1】チーム情報!L21","v":""},null,null,{"$f":"【入力1】チーム情報!O21","v":""},null,null,{"$f":"【入力1】チーム情報!N21","v":""},null,null,{"$f":"【入力1】チーム情報!P21","v":""},null,null,null,"",null,{"$f":"【入力1】チーム情報!L21","v":""},{"$f":"【入力1】チーム情報!M21","v":""}]
[7,{"$f":"【入力1】チーム情報!Q22","v":""},null,null,null,null,null,{"$f":"【入力1】チーム情報!M22","v":""},null,null,{"$f":"【入力1】チーム情報!L22","v":""},null,null,{"$f":"【入力1】チーム情報!O22","v":""},null,null,{"$f":"【入力1】チーム情報!N22","v":""},null,null,{"$f":"【入力1】チーム情報!P22","v":""},null,null,null,"",null,{"$f":"【入力1】チーム情報!L22","v":""},{"$f":"【入力1】チーム情報!M22","v":""}]
[8,{"$f":"【入力1】チーム情報!Q23","v":""},null,null,null,null,null,{"$f":"【入力1】チーム情報!M23","v":""},null,null,{"$f":"【入力1】チーム情報!L23","v":""},null,null,{"$f":"【入力1】チーム情報!O23","v":""},null,null,{"$f":"【入力1】チーム情報!N23","v":""},null,null,{"$f":"【入力1】チーム情報!P23","v":""},null,null,null,"",null,{"$f":"【入力1】チーム情報!L23","v":""},{"$f":"【入力1】チーム情報!M23","v":""}]
[9,{"$f":"【入力1】チーム情報!Q24","v":""},null,null,null,null,null,{"$f":"【入力1】チーム情報!M24","v":""},null,null,{"$f":"【入力1】チーム情報!L24","v":""},null,null,{"$f":"【入力1】チーム情報!O24","v":""},null,null,{"$f":"【入力1】チーム情報!N24","v":""},null,null,{"$f":"【入力1】チーム情報!P24","v":""},null,null,null,"",null,{"$f":"【入力1】チーム情報!L24","v":""},{"$f":"【入力1】チーム情報!M24","v":""}]
[10,{"$f":"【入力1】チーム情報!Q25","v":""},null,null,null,null,null,{"$f":"【入力1】チーム情報!M25","v":""},null,null,{"$f":"【入力1】チーム情報!L25","v":""},null,null,{"$f":"【入力1】チーム情報!O25","v":""},null,null,{"$f":"【入力1】チーム情報!N25","v":""},null,null,{"$f":"【入力1】チーム情報!P25","v":""},null,null,null,"",null,{"$f":"【入力1】チーム情報!L25","v":""},{"$f":"【入力1】チーム情報!M25","v":""}]
[11,{"$f":"【入力1】チーム情報!Q26","v":""},null,null,null,null,null,{"$f":"【入力1】チーム情報!M26","v":""},null,null,{"$f":"【入力1】チーム情報!L26","v":""},null,null,{"$f":"【入力1】チーム情報!O26","v":""},null,null,{"$f":"【入力1】チーム情報!N26","v":""},null,null,{"$f":"【入力1】チーム情報!P26","v":""},null,null,null,"",null,{"$f":"【入力1】チーム情報!L26","v":""},{"$f":"【入力1】チーム情報!M26","v":""}]
[12,{"$f":"【入力1】チーム情報!Q27","v":""},null,null,null,null,null,{"$f":"【入力1】チーム情報!M27","v":""},null,null,{"$f":"【入力1】チーム情報!L27","v":""},null,null,{"$f":"【入力1】チーム情報!O27","v":""},null,null,{"$f":"【入力1】チーム情報!N27","v":""},null,null,{"$f":"【入力1】チーム情報!P27","v":""},null,null,null,"",null,{"$f":"【入力1】チーム情報!L27","v":""},{"$f":"【入力1】チーム情報!M27","v":""}]
[13,{"$f":"【入力1】チーム情報!Q28","v":""},null,null,null,null,null,{"$f":"【入力1】チーム情報!M28","v":""},null,null,{"$f":"【入力1】チーム情報!L28","v":""},null,null,{"$f":"【入力1】チーム情報!O28","v":""},null,null,{"$f":"【入力1】チーム情報!N28","v":""},null,null,{"$f":"【入力1】チーム情報!P28","v":""},null,null,null,"",null,{"$f":"【入力1】チーム情報!L28","v":""},{"$f":"【入力1】チーム情報!M28","v":""}]
[14,{"$f":"【入力1】チーム情報!Q29","v":""},null,null,null,null,null,{"$f":"【入力1】チーム情報!M29","v":""},null,null,{"$f":"【入力1】チーム情報!L29","v":""},null,null,{"$f":"【入力1】チーム情報!O29","v":""},null,null,{"$f":"【入力1】チーム情報!N29","v":""},null,null,{"$f":"【入力1】チーム情報!P29","v":""},null,null,null,"",null,{"$f":"【入力1】チーム情報!L29","v":""},{"$f":"【入力1】チーム情報!M29","v":""}]
[15,{"$f":"【入力1】チーム情報!Q30","v":""},null,null,null,null,null,{"$f":"【入力1】チーム情報!M30","v":""},null,null,{"$f":"【入力1】チーム情報!L30","v":""},null,null,{"$f":"【入力1】チーム情報!O30","v":""},null,null,{"$f":"【入力1】チーム情報!N30","v":""},null,null,{"$f":"【入力1】チーム情報!P30","v":""},null,null,null,"",null,{"$f":"【入力1】チーム情報!L30","v":""},{"$f":"【入力1】チーム情報!M30","v":""}]
[16,{"$f":"【入力1】チーム情報!Q31","v":""},null,null,null,null,null,{"$f":"【入力1】チーム情報!M31","v":""},null,null,{"$f":"【入力1】チーム情報!L31","v":""},null,null,{"$f":"【入力1】チーム情報!O31","v":""},null,null,{"$f":"【入力1】チーム情報!N31","v":""},null,null,{"$f":"【入力1】チーム情報!P31","v":""},null,null,null,"",null,{"$f":"【入力1】チーム情報!L31","v":""},{"$f":"【入力1】チーム情報!M31","v":""}]
[17,{"$f":"【入力1】チーム情報!Q32","v":""},null,null,null,null,null,{"$f":"【入力1】チーム情報!M32","v":""},null,null,{"$f":"【入力1】チーム情報!L32","v":""},null,null,{"$f":"【入力1】チーム情報!O32","v":""},null,null,{"$f":"【入力1】チーム情報!N32","v":""},null,null,{"$f":"【入力1】チーム情報!P32","v":""},null,null,null,"",null,{"$f":"【入力1】チーム情報!L32","v":""},{"$f":"【入力1】チーム情報!M32","v":""}]
[18,{"$f":"【入力1】チーム情報!Q33","v":""},null,null,null,null,null,{"$f":"【入力1】チーム情報!M33","v":""},null,null,{"$f":"【入力1】チーム情報!L33","v":""},null,null,{"$f":"【入力1】チーム情報!O33","v":""},null,null,{"$f":"【入力1】チーム情報!N33","v":""},null,null,{"$f":"【入力1】チーム情報!P33","v":""},null,null,null,"",null,{"$f":"【入力1】チーム情報!L33","v":""},{"$f":"【入力1】チーム情報!M33","v":""}]
[]
[]
["◇上記の者は本校在校生徒で標記大会に出場することを認め，参加申し込みをいたします。"]
[{"$f":"【入力1】チーム情報!$H$2","v":45356},null,null,"年",null,"月",null,"日"]
[null,null,null,null,{"$f":"C6","v":""},null,null,null,null,null,null,null,null,null,{"$f":"【入力1】チーム情報!$H$5","v":0},null,null,null,null,null,null,null,"印"]

{"sheet":"【申込】新人戦","index":6,"n_rows":38,"n_cols":27,"rows_kept":38,"cut":false,"hidden":false,"merged":[[0,0,0,23],[1,0,1,23],[2,0,2,23],[4,0,4,1],[4,2,4,9],[4,10,7,11],[4,13,4,16],[5,0,6,1],[5,2,6,8],[5,9,6,9],[5,12,6,23],[7,0,7,3],[7,4,7,9],[7,13,7,17],[7,19,7,23],[8,0,8,2],[8,3,9,9],[8,10,8,12],[8,13,9,23],[9,0,9,2],[9,10,9,12],[10,0,10,2],[10,3,10,9],[10,10,10,12],[10,13,10,23],[11,0,11,2],[11,3,12,9],[11,10,11,12],[11,13,12,23],[12,0,12,2],[12,10,12,12],[13,0,13,2],[13,3,13,9],[13,10,13,12],[13,13,13,23],[16,1,16,6],[16,7,16,9],[16,10,16,12],[16,13,16,15],[16,16,16,18],[16,19,16,22],[17,1,17,6],[17,7,17,9],[17,10,17,12],[17,13,17,15],[17,16,17,18],[14,1,14,6],[14,7,14,9],[14,10,14,12],[14,13,14,15],[14,16,14,18],[14,19,14,23],[15,1,15,6],[15,7,15,9],[15,10,15,12],[15,13,15,15],[15,16,15,18],[15,19,15,22],[19,1,19,6],[19,7,19,9],[19,10,19,12],[19,13,19,15],[19,16,19,18],[19,19,19,22],[17,19,17,22],[18,1,18,6],[18,7,18,9],[18,10,18,12],[18,13,18,15],[18,16,18,18],[18,19,18,22],[21,1,21,6],[21,7,21,9],[21,10,21,12],[21,13,21,15],[21,16,21,18],[21,19,21,22],[20,1,20,6],[20,7,20,9],[20,10,20,12],[20,13,20,15],[20,16,20,18],[20,19,20,22],[23,1,23,6],[23,7,23,9],[23,10,23,12],[23,13,23,15],[23,16,23,18],[23,19,23,22],[22,1,22,6],[22,7,22,9],[22,10,22,12],[22,13,22,15],[22,16,22,18],[22,19,22,22],[25,1,25,6],[25,7,25,9],[25,10,25,12],[25,13,25,15],[25,16,25,18],[25,19,25,22],[24,1,24,6],[24,7,24,9],[24,10,24,12],[24,13,24,15],[24,16,24,18],[24,19,24,22],[27,1,27,6],[27,7,27,9],[27,10,27,12],[27,13,27,15],[27,16,27,18],[27,19,27,22],[26,1,26,6],[26,7,26,9],[26,10,26,12],[26,13,26,15],[26,16,26,18],[26,19,26,22],[29,7,29,9],[29,10,29,12],[29,13,29,15],[29,16,29,18],[29,19,29,22],[28,1,28,6],[28,7,28,9],[28,10,28,12],[28,13,28,15],[28,16,28,18],[28,19,28,22],[14,25,14,26],[35,0,35,23],[36,0,36,1],[37,4,37,13],[37,14,37,21],[32,1,32,6],[32,7,32,9],[32,10,32,12],[32,13,32,15],[32,16,32,18],[32,19,32,22],[31,1,31,6],[31,7,31,9],[31,10,31,12],[31,13,31,15],[31,16,31,18],[31,19,31,22],[30,1,30,6],[30,7,30,9],[30,10,30,12],[30,13,30,15],[30,16,30,18],[30,19,30,22],[29,1,29,6]]}
[{"$f":"DBCS(TEXT(【入力1】チーム情報!H2, \"ggge年度　宮城県高等学校\"))","v":"令和６年度　宮城県高等学校"}]
["新人バスケットボール大会"]
["【　参加申込書　】"]
[null,null,null,null,null,null,null,null,null,null,null,null,null,null,null,null,null,null,null,null,null,null,null,{"$f":"【入力1】チーム情報!$H$6","v":"ver.2024_1a"}]
["ﾌﾘｶﾞﾅ",null,{"$f":"IFERROR(VLOOKUP(【入力1】チーム情報!$B$5,学校番号!$C$4:$M$173,10,1)&\" \"&VLOOKUP(【入力1】チーム情報!$B$5,学校番号!$C$4:$M$173,11,1),\"\")","v":""},null,null,null,null,null,null,null,"学校　　所在地",null,"〒",{"$f":"IFERROR(VLOOKUP(【入力1】チーム情報!$B$5,学校番号!$C$4:$M$173,5,1),\"\")","v":""}]
["学校名",null,{"$f":"IFERROR(VLOOKUP(【入力1】チーム情報!$B$5,学校番号!$C$4:$M$173,2,1),\"\")","v":""},null,null,null,null,null,null,{"$f":"IFERROR(VLOOKUP(【入力1】チーム情報!$B$5,学校番号!$C$4:$M$173,3,1)&\"子\",\"\")","v":""},null,null,{"$f":"IFERROR(VLOOKUP(【入力1】チーム情報!$B$5,学校番号!$C$4:$M$173,6,1),\"\")","v":""},null,null,null,null,null,null,null,null,null,null,null,null,{"$f":"VLOOKUP(【入力1】チーム情報!B5,学校番号!$C$4:$N$173,9,1)","v":{"$error":"#N/A"}}]
[]
["チーム登録番号",null,null,null,{"$f":"IFERROR(VLOOKUP(【入力1】チーム情報!$B$5,学校番号!$C$4:$M$173,4,1),\"\")","v":""},null,null,null,null,null,null,null,"TEL",{"$f":"IFERROR(VLOOKUP(【入力1】チーム情報!$B$5,学校番号!$C$4:$M$173,7,1),\"\")","v":""},null,null,null,null,"FAX",{"$f":"IFERROR(VLOOKUP(【入力1】チーム情報!$B$5,学校番号!$C$4:$M$173,8,1),\"\")","v":""}]
["監督",null,null,{"$f":"【入力1】チーム情報!$E$8","v":0},null,null,null,null,null,null,"コーチ",null,null,{"$f":"【入力1】チーム情報!$E$9","v":0}]
["氏名",null,null,null,null,null,null,null,null,null,"氏名"]
["登録番号",null,null,{"$f":"【入力1】チーム情報!$D$8","v":0},null,null,null,null,null,null,"登録番号",null,null,{"$f":"【入力1】チーム情報!$D$9","v":0}]
["Ａ・コーチ",null,null,{"$f":"【入力1】チーム情報!$E$10","v":0},null,null,null,null,null,null,"ﾏﾈｰｼﾞｬｰ",null,null,{"$f":"【入力1】チーム情報!$E$11&\"  \"&【入力1】チーム情報!$E$12&\"  \"&【入力1】チーム情報!$E$13","v":"    "}]
["氏名",null,null,null,null,null,null,null,null,null,"氏名"]
["登録番号",null,null,{"$f":"【入力1】チーム情報!$D$10","v":0},null,null,null,null,null,null,"登録番号",null,null,{"$f":"【入力1】チーム情報!$D$11&\"  \"&【入力1】チーム情報!$D$12&\"  \"&【入力1】チーム情報!$D$13","v":"    "}]
["№","競技者登録番号",null,null,null,null,null,"競技者氏名",null,null,"番号",null,null,"学年",null,null,"身長（㎝）",null,null,"出身中学校",null,null,null,null,null,"※名票（背番号順）"]
[1,{"$f":"【入力1】チーム情報!Q16","v":""},null,null,null,null,null,{"$f":"【入力1】チーム情報!M16","v":""},null,null,{"$f":"【入力1】チーム情報!L16","v":""},null,null,{"$f":"【入力1】チーム情報!O16","v":""},null,null,{"$f":"【入力1】チーム情報!N16","v":""},null,null,{"$f":"【入力1】チーム情報!P16","v":""},null,null,null,{"$f":"IF(T16<>\"\",\"中\",\"\")","v":""},null,{"$f":"【入力1】チーム情報!L16","v":""},{"$f":"【入力1】チーム情報!M16","v":""}]
[2,{"$f":"【入力1】チーム情報!Q17","v":""},null,null,null,null,null,{"$f":"【入力1】チーム情報!M17","v":""},null,null,{"$f":"【入力1】チーム情報!L17","v":""},null,null,{"$f":"【入力1】チーム情報!O17","v":""},null,null,{"$f":"【入力1】チーム情報!N17","v":""},null,null,{"$f":"【入力1】チーム情報!P17","v":""},null,null,null,{"$f":"IF(T17<>\"\",\"中\",\"\")","v":""},null,{"$f":"【入力1】チーム情報!L17","v":""},{"$f":"【入力1】チーム情報!M17","v":""}]
[3,{"$f":"【入力1】チーム情報!Q18","v":""},null,null,null,null,null,{"$f":"【入力1】チーム情報!M18","v":""},null,null,{"$f":"【入力1】チーム情報!L18","v":""},null,null,{"$f":"【入力1】チーム情報!O18","v":""},null,null,{"$f":"【入力1】チーム情報!N18","v":""},null,null,{"$f":"【入力1】チーム情報!P18","v":""},null,null,null,"",null,{"$f":"【入力1】チーム情報!L18","v":""},{"$f":"【入力1】チーム情報!M18","v":""}]
[4,{"$f":"【入力1】チーム情報!Q19","v":""},null,null,null,null,null,{"$f":"【入力1】チーム情報!M19","v":""},null,null,{"$f":"【入力1】チーム情報!L19","v":""},null,null,{"$f":"【入力1】チーム情報!O19","v":""},null,null,{"$f":"【入力1】チーム情報!N19","v":""},null,null,{"$f":"【入力1】チーム情報!P19","v":""},null,null,null,"",null,{"$f":"【入力1】チーム情報!L19","v":""},{"$f":"【入力1】チーム情報!M19","v":""}]
[5,{"$f":"【入力1】チーム情報!Q20","v":""},null,null,null,null,null,{"$f":"【入力1】チーム情報!M20","v":""},null,null,{"$f":"【入力1】チーム情報!L20","v":""},null,null,{"$f":"【入力1】チーム情報!O20","v":""},null,null,{"$f":"【入力1】チーム情報!N20","v":""},null,null,{"$f":"【入力1】チーム情報!P20","v":""},null,null,null,"",null,{"$f":"【入力1】チーム情報!L20","v":""},{"$f":"【入力1】チーム情報!M20","v":""}]
[6,{"$f":"【入力1】チーム情報!Q21","v":""},null,null,null,null,null,{"$f":"【入力1】チーム情報!M21","v":""},null,null,{"$f":"【入力1】チーム情報!L21","v":""},null,null,{"$f":"【入力1】チーム情報!O21","v":""},null,null,{"$f":"【入力1】チーム情報!N21","v":""},null,null,{"$f":"【入力1】チーム情報!P21","v":""},null,null,null,"",null,{"$f":"【入力1】チーム情報!L21","v":""},{"$f":"【入力1】チーム情報!M21","v":""}]
[7,{"$f":"【入力1】チーム情報!Q22","v":""},null,null,null,null,null,{"$f":"【入力1】チーム情報!M22","v":""},null,null,{"$f":"【入力1】チーム情報!L22","v":""},null,null,{"$f":"【入力1】チーム情報!O22","v":""},null,null,{"$f":"【入力1】チーム情報!N22","v":""},null,null,{"$f":"【入力1】チーム情報!P22","v":""},null,null,null,"",null,{"$f":"【入力1】チーム情報!L22","v":""},{"$f":"【入力1】チーム情報!M22","v":""}]
[8,{"$f":"【入力1】チーム情報!Q23","v":""},null,null,null,null,null,{"$f":"【入力1】チーム情報!M23","v":""},null,null,{"$f":"【入力1】チーム情報!L23","v":""},null,null,{"$f":"【入力1】チーム情報!O23","v":""},null,null,{"$f":"【入力1】チーム情報!N23","v":""},null,null,{"$f":"【入力1】チーム情報!P23","v":""},null,null,null,"",null,{"$f":"【入力1】チーム情報!L23","v":""},{"$f":"【入力1】チーム情報!M23","v":""}]
[9,{"$f":"【入力1】チーム情報!Q24","v":""},null,null,null,null,null,{"$f":"【入力1】チーム情報!M24","v":""},null,null,{"$f":"【入力1】チーム情報!L24","v":""},null,null,{"$f":"【入力1】チーム情報!O24","v":""},null,null,{"$f":"【入力1】チーム情報!N24","v":""},null,null,{"$f":"【入力1】チーム情報!P24","v":""},null,null,null,"",null,{"$f":"【入力1】チーム情報!L24","v":""},{"$f":"【入力1】チーム情報!M24","v":""}]
[10,{"$f":"【入力1】チーム情報!Q25","v":""},null,null,null,null,null,{"$f":"【入力1】チーム情報!M25","v":""},null,null,{"$f":"【入力1】チーム情報!L25","v":""},null,null,{"$f":"【入力1】チーム情報!O25","v":""},null,null,{"$f":"【入力1】チーム情報!N25","v":""},null,null,{"$f":"【入力1】チーム情報!P25","v":""},null,null,null,"",null,{"$f":"【入力1】チーム情報!L25","v":""},{"$f":"【入力1】チーム情報!M25","v":""}]
[11,{"$f":"【入力1】チーム情報!Q26","v":""},null,null,null,null,null,{"$f":"【入力1】チーム情報!M26","v":""},null,null,{"$f":"【入力1】チーム情報!L26","v":""},null,null,{"$f":"【入力1】チーム情報!O26","v":""},null,null,{"$f":"【入力1】チーム情報!N26","v":""},null,null,{"$f":"【入力1】チーム情報!P26","v":""},null,null,null,"",null,{"$f":"【入力1】チーム情報!L26","v":""},{"$f":"【入力1】チーム情報!M26","v":""}]
[12,{"$f":"【入力1】チーム情報!Q27","v":""},null,null,null,null,null,{"$f":"【入力1】チーム情報!M27","v":""},null,null,{"$f":"【入力1】チーム情報!L27","v":""},null,null,{"$f":"【入力1】チーム情報!O27","v":""},null,null,{"$f":"【入力1】チーム情報!N27","v":""},null,null,{"$f":"【入力1】チーム情報!P27","v":""},null,null,null,"",null,{"$f":"【入力1】チーム情報!L27","v":""},{"$f":"【入力1】チーム情報!M27","v":""}]
[13,{"$f":"【入力1】チーム情報!Q28","v":""},null,null,null,null,null,{"$f":"【入力1】チーム情報!M28","v":""},null,null,{"$f":"【入力1】チーム情報!L28","v":""},null,null,{"$f":"【入力1】チーム情報!O28","v":""},null,null,{"$f":"【入力1】チーム情報!N28","v":""},null,null,{"$f":"【入力1】チーム情報!P28","v":""},null,null,null,"",null,{"$f":"【入力1】チーム情報!L28","v":""},{"$f":"【入力1】チーム情報!M28","v":""}]
[14,{"$f":"【入力1】チーム情報!Q29","v":""},null,null,null,null,null,{"$f":"【入力1】チーム情報!M29","v":""},null,null,{"$f":"【入力1】チーム情報!L29","v":""},null,null,{"$f":"【入力1】チーム情報!O29","v":""},null,null,{"$f":"【入力1】チーム情報!N29","v":""},null,null,{"$f":"【入力1】チーム情報!P29","v":""},null,null,null,"",null,{"$f":"【入力1】チーム情報!L29","v":""},{"$f":"【入力1】チーム情報!M29","v":""}]
[15,{"$f":"【入力1】チーム情報!Q30","v":""},null,null,null,null,null,{"$f":"【入力1】チーム情報!M30","v":""},null,null,{"$f":"【入力1】チーム情報!L30","v":""},null,null,{"$f":"【入力1】チーム情報!O30","v":""},null,null,{"$f":"【入力1】チーム情報!N30","v":""},null,null,{"$f":"【入力1】チーム情報!P30","v":""},null,null,null,"",null,{"$f":"【入力1】チーム情報!L30","v":""},{"$f":"【入力1】チーム情報!M30","v":""}]
[16,{"$f":"【入力1】チーム情報!Q31","v":""},null,null,null,null,null,{"$f":"【入力1】チーム情報!M31","v":""},null,null,{"$f":"【入力1】チーム情報!L31","v":""},null,null,{"$f":"【入力1】チーム情報!O31","v":""},null,null,{"$f":"【入力1】チーム情報!N31","v":""},null,null,{"$f":"【入力1】チーム情報!P31","v":""},null,null,null,"",null,{"$f":"【入力1】チーム情報!L31","v":""},{"$f":"【入力1】チーム情報!M31","v":""}]
[17,{"$f":"【入力1】チーム情報!Q32","v":""},null,null,null,null,null,{"$f":"【入力1】チーム情報!M32","v":""},null,null,{"$f":"【入力1】チーム情報!L32","v":""},null,null,{"$f":"【入力1】チーム情報!O32","v":""},null,null,{"$f":"【入力1】チーム情報!N32","v":""},null,null,{"$f":"【入力1】チーム情報!P32","v":""},null,null,null,"",null,{"$f":"【入力1】チーム情報!L32","v":""},{"$f":"【入力1】チーム情報!M32","v":""}]
[18,{"$f":"【入力1】チーム情報!Q33","v":""},null,null,null,null,null,{"$f":"【入力1】チーム情報!M33","v":""},null,null,{"$f":"【入力1】チーム情報!L33","v":""},null,null,{"$f":"【入力1】チーム情報!O33","v":""},null,null,{"$f":"【入力1】チーム情報!N33","v":""},null,null,{"$f":"【入力1】チーム情報!P33","v":""},null,null,null,"",null,{"$f":"【入力1】チーム情報!L33","v":""},{"$f":"【入力1】チーム情報!M33","v":""}]
[]
[]
["◇上記の者は本校在校生徒で標記大会に出場することを認め，参加申し込みをいたします。"]
[{"$f":"【入力1】チーム情報!$H$2","v":45356},null,null,"年",null,"月",null,"日"]
[null,null,null,null,{"$f":"C6","v":""},null,null,null,null,null,null,null,null,null,{"$f":"【入力1】チーム情報!$H$5","v":0},null,null,null,null,null,null,null,"印"]

{"sheet":"【メンバー用紙】共通","index":7,"n_rows":31,"n_cols":14,"rows_kept":31,"cut":false,"hidden":false,"merged":[[0,0,0,13],[1,0,1,13],[3,11,3,13],[2,0,2,13],[3,9,3,10],[3,6,3,7],[3,1,3,4],[4,0,4,4],[4,5,4,7],[4,8,4,10],[4,11,4,13],[5,0,6,0],[5,1,6,4],[5,5,6,5],[5,6,5,10],[5,11,5,13],[6,11,6,13],[7,11,7,13],[8,11,8,13],[9,11,9,13],[9,2,9,4],[8,2,8,4],[7,2,7,4],[10,11,10,13],[11,11,11,13],[12,11,12,13],[12,2,12,4],[11,2,11,4],[10,2,10,4],[13,11,13,13],[14,11,14,13],[15,11,15,13],[15,2,15,4],[14,2,14,4],[13,2,13,4],[16,11,16,13],[17,11,17,13],[18,11,18,13],[16,2,16,4],[18,2,18,4],[17,2,17,4],[19,11,19,13],[20,11,20,13],[21,11,21,13],[21,2,21,4],[20,2,20,4],[19,2,19,4],[27,0,27,1],[27,8,27,9],[28,0,28,1],[28,8,28,9],[22,11,22,13],[23,11,23,13],[24,11,24,13],[24,2,24,4],[23,2,23,4],[22,2,22,4]]}
["宮城県高体連バスケットボール専門部　メンバー用紙"]
["チーム名："]
[{"$f":"IFERROR(VLOOKUP(【入力1】チーム情報!$B$5,学校番号!$C$4:$L$173,2,1),\"\")","v":""}]
["監督:",{"$f":"RIGHT(【入力1】チーム情報!D8, 3)","v":""},null,null,null,"コーチ:",{"$f":"RIGHT(【入力1】チーム情報!D9, 3)","v":""},null,"Aコーチ:",{"$f":"RIGHT(【入力1】チーム情報!D10, 3)","v":""},null,"マネージャー："]
[{"$f":"【入力1】チーム情報!$E$8","v":0},null,null,null,null,{"$f":"【入力1】チーム情報!$E$9","v":0},null,null,{"$f":"【入力1】チーム情報!$E$10","v":0},null,null,{"$f":"【入力1】チーム情報!$E$11&\"  \"&【入力1】チーム情報!$E$12&\"  \"&【入力1】チーム情報!$E$13","v":"    "}]
["No.","選手名",null,null,null,"番号","ファウル",null,null,null,null,"備 考"]
[null,null,null,null,null,null,1,2,3,4,5,"（キャプテン等記入）"]
[1,{"$f":"RIGHT(【入力1】チーム情報!Q16, 3)","v":""},{"$f":"【入力1】チーム情報!M16","v":""},null,null,{"$f":"【入力1】チーム情報!L16","v":""}]
[2,{"$f":"RIGHT(【入力1】チーム情報!Q17, 3)","v":""},{"$f":"【入力1】チーム情報!M17","v":""},null,null,{"$f":"【入力1】チーム情報!L17","v":""}]
[3,{"$f":"RIGHT(【入力1】チーム情報!Q18, 3)","v":""},{"$f":"【入力1】チーム情報!M18","v":""},null,null,{"$f":"【入力1】チーム情報!L18","v":""},null,null,null,null,null,"　"]
[4,{"$f":"RIGHT(【入力1】チーム情報!Q19, 3)","v":""},{"$f":"【入力1】チーム情報!M19","v":""},null,null,{"$f":"【入力1】チーム情報!L19","v":""},null,null,null,null,null,"　"]
[5,{"$f":"RIGHT(【入力1】チーム情報!Q20, 3)","v":""},{"$f":"【入力1】チーム情報!M20","v":""},null,null,{"$f":"【入力1】チーム情報!L20","v":""}]
[6,{"$f":"RIGHT(【入力1】チーム情報!Q21, 3)","v":""},{"$f":"【入力1】チーム情報!M21","v":""},null,null,{"$f":"【入力1】チーム情報!L21","v":""}]
[7,{"$f":"RIGHT(【入力1】チーム情報!Q22, 3)","v":""},{"$f":"【入力1】チーム情報!M22","v":""},null,null,{"$f":"【入力1】チーム情報!L22","v":""}]
[8,{"$f":"RIGHT(【入力1】チーム情報!Q23, 3)","v":""},{"$f":"【入力1】チーム情報!M23","v":""},null,null,{"$f":"【入力1】チーム情報!L23","v":""}]
[9,{"$f":"RIGHT(【入力1】チーム情報!Q24, 3)","v":""},{"$f":"【入力1】チーム情報!M24","v":""},null,null,{"$f":"【入力1】チーム情報!L24","v":""}]
[10,{"$f":"RIGHT(【入力1】チーム情報!Q25, 3)","v":""},{"$f":"【入力1】チーム情報!M25","v":""},null,null,{"$f":"【入力1】チーム情報!L25","v":""}]
[11,{"$f":"RIGHT(【入力1】チーム情報!Q26, 3)","v":""},{"$f":"【入力1】チーム情報!M26","v":""},null,null,{"$f":"【入力1】チーム情報!L26","v":""}]
[12,{"$f":"RIGHT(【入力1】チーム情報!Q27, 3)","v":""},{"$f":"【入力1】チーム情報!M27","v":""},null,null,{"$f":"【入力1】チーム情報!L27","v":""}]
[13,{"$f":"RIGHT(【入力1】チーム情報!Q28, 3)","v":""},{"$f":"【入力1】チーム情報!M28","v":""},null,null,{"$f":"【入力1】チーム情報!L28","v":""}]
[14,{"$f":"RIGHT(【入力1】チーム情報!Q29, 3)","v":""},{"$f":"【入力1】チーム情報!M29","v":""},null,null,{"$f":"【入力1】チーム情報!L29","v":""}]
[15,{"$f":"RIGHT(【入力1】チーム情報!Q30, 3)","v":""},{"$f":"【入力1】チーム情報!M30","v":""},null,null,{"$f":"【入力1】チーム情報!L30","v":""}]
[16,{"$f":"RIGHT(【入力1】チーム情報!Q31, 3)","v":""},{"$f":"【入力1】チーム情報!M31","v":""},null,null,{"$f":"【入力1】チーム情報!L31","v":""}]
[17,{"$f":"RIGHT(【入力1】チーム情報!Q32, 3)","v":""},{"$f":"【入力1】チーム情報!M32","v":""},null,null,{"$f":"【入力1】チーム情報!L32","v":""}]
[18,{"$f":"RIGHT(【入力1】チーム情報!Q33, 3)","v":""},{"$f":"【入力1】チーム情報!M33","v":""},null,null,{"$f":"【入力1】チーム情報!L33","v":""}]
[]
["チーム・ファウル"]
["１Ｑ",null,1,2,3,4,null,null,"３Ｑ",null,1,2,3,4]
["２Ｑ",null,1,2,3,4,null,null,"４Ｑ",null,1,2,3,4]
[]
[null,null,null,null,null,null,null,null,null,null,null,null,null,{"$f":"【入力1】チーム情報!$H$37","v":0}]

{"sheet":"memo","index":8,"n_rows":23,"n_cols":35,"rows_kept":23,"cut":false,"hidden":false,"merged":[]}
["このシートはご自由にご使用ください。"]
[]
["エントリーした選手が決まった際は、こちらを大会ごとの記録シートとしてお使いください。（削除可）"]
["総体地区予選",null,null,null,"県総体",null,null,null,"選手権一次大会",null,null,null,"新人地区予選",null,null,null,"選手権本大会",null,null,null,"県新人",null,null,null,"その他1",null,null,null,"その他2",null,null,null,"その他3"]
[null,"番号","エントリー選手",null,null,"番号","エントリー選手",null,null,"番号","エントリー選手",null,null,"番号","エントリー選手",null,null,"番号","エントリー選手",null,null,"番号","エントリー選手",null,null,"番号","エントリー選手",null,null,"番号","エントリー選手",null,null,"番号","エントリー選手"]
[1,null,null,null,1,null,null,null,1,null,null,null,1,null,null,null,1,null,null,null,1,null,null,null,1,null,null,null,1,null,null,null,1]
[2,null,null,null,2,null,null,null,2,null,null,null,2,null,null,null,2,null,null,null,2,null,null,null,2,null,null,null,2,null,null,null,2]
[3,null,null,null,3,null,null,null,3,null,null,null,3,null,null,null,3,null,null,null,3,null,null,null,3,null,null,null,3,null,null,null,3]
[4,null,null,null,4,null,null,null,4,null,null,null,4,null,null,null,4,null,null,null,4,null,null,null,4,null,null,null,4,null,null,null,4]
[5,null,null,null,5,null,null,null,5,null,null,null,5,null,null,null,5,null,null,null,5,null,null,null,5,null,null,null,5,null,null,null,5]
[6,null,null,null,6,null,null,null,6,null,null,null,6,null,null,null,6,null,null,null,6,null,null,null,6,null,null,null,6,null,null,null,6]
[7,null,null,null,7,null,null,null,7,null,null,null,7,null,null,null,7,null,null,null,7,null,null,null,7,null,null,null,7,null,null,null,7]
[8,null,null,null,8,null,null,null,8,null,null,null,8,null,null,null,8,null,null,null,8,null,null,null,8,null,null,null,8,null,null,null,8]
[9,null,null,null,9,null,null,null,9,null,null,null,9,null,null,null,9,null,null,null,9,null,null,null,9,null,null,null,9,null,null,null,9]
[10,null,null,null,10,null,null,null,10,null,null,null,10,null,null,null,10,null,null,null,10,null,null,null,10,null,null,null,10,null,null,null,10]
[11,null,null,null,11,null,null,null,11,null,null,null,11,null,null,null,11,null,null,null,11,null,null,null,11,null,null,null,11,null,null,null,11]
[12,null,null,null,12,null,null,null,12,null,null,null,12,null,null,null,12,null,null,null,12,null,null,null,12,null,null,null,12,null,null,null,12]
[13,null,null,null,13,null,null,null,13,null,null,null,13,null,null,null,13,null,null,null,13,null,null,null,13,null,null,null,13,null,null,null,13]
[14,null,null,null,14,null,null,null,14,null,null,null,14,null,null,null,14,null,null,null,14,null,null,null,14,null,null,null,14,null,null,null,14]
[15,null,null,null,15,null,null,null,15,null,null,null,15,null,null,null,15,null,null,null,15,null,null,null,15,null,null,null,15,null,null,null,15]
[16,null,null,null,16,null,null,null,16,null,null,null,16,null,null,null,16,null,null,null,16,null,null,null,16,null,null,null,16,null,null,null,16]
[17,null,null,null,17,null,null,null,17,null,null,null,17,null,null,null,17,null,null,null,17,null,null,null,17,null,null,null,17,null,null,null,17]
[18,null,null,null,18,null,null,null,18,null,null,null,18,null,null,null,18,null,null,null,18,null,null,null,18,null,null,null,18,null,null,null,18]